BEGIN:VCALENDAR
VERSION:2.0
METHOD:PUBLISH
X-WR-CALNAME:Bishop McDevitt Swimming & Diving |  February 21 2026- March 23 2026
PRODID:-//strange bird labs//Drupal iCal API//EN
BEGIN:VEVENT
DTSTAMP;VALUE=DATE-TIME:20260422T090223Z
DTSTART;VALUE=DATE-TIME:20260224T233000Z
DTEND;VALUE=DATE-TIME:20260225T013000Z
UID:https://www.bmcdswimming.org/index.php?q=node/644
URL;VALUE=URI:https://www.bmcdswimming.org/index.php?q=node/644
SUMMARY:Districts Team Dinner - Tuesday\, February 24 at the Olive Garden
DESCRIPTION:<p>The coaches and captains invite all swimmers and divers to a \\"Districts Dinner\\" on Tuesday\, February 24 at the Olive Garden.  All athletes will be seated together. Parents and siblings are also welcome to join the team\; however\, seating will be prioritized for swimmers\, divers\, and coaches.</p>
 <p>The coaches will conclude practice a little early in order to accommodate travel and time spent at dinner.  Coaches and captains will assist with car-pooling for any athlete that may need a ride to the Olive Garden.  Parents can plan to pick-up directly from the Olive Garden.</p>
 <p>Olive Garden</p>
 
END:VEVENT
BEGIN:VEVENT
DTSTAMP;VALUE=DATE-TIME:20260422T090223Z
DTSTART;VALUE=DATE-TIME:20260227T133000Z
DTEND;VALUE=DATE-TIME:20260301T010000Z
UID:https://www.bmcdswimming.org/index.php?q=node/643
URL;VALUE=URI:https://www.bmcdswimming.org/index.php?q=node/643
SUMMARY:District III Swimming Championships - Friday February 27 - Saturday February 28 at Cumberland Valley High School
DESCRIPTION:<p><strong>District III Swimming Championships 2026</strong><br />
 Friday February 27 - Saturday February 28<br />
 at Cumberland Valley High School</p>
 <p>(AA Diving Championships Friday\, February 20 at Dover High School)</p>
 <p><a href=\\"https\://piaad3.org/documents/2026/1/8/1-8-26b_Rev_25_26_SWIM-DIVE_CALENDAR_1__1_.pdf\\">2026 District 3 Swimming Championship Meet Qualifying Guidelines</a> </p>
 <p><a href=\\"https\://piaad3.org/documents/2026/1/8/1-8-26b_CUMBERLAND_VALLEY_SPECTATOR_INFORMATION_2026-1.pdf\\">2026<br />
  District 3 Swimming Championship Meet Spectator Information</a></p>
 
END:VEVENT
BEGIN:VEVENT
DTSTAMP;VALUE=DATE-TIME:20260422T090223Z
DTSTART;VALUE=DATE-TIME:20260308T233000Z
DTEND;VALUE=DATE-TIME:20260309T013000Z
UID:https://www.bmcdswimming.org/index.php?q=node/647
URL;VALUE=URI:https://www.bmcdswimming.org/index.php?q=node/647
SUMMARY:PIAA Championships Poster Party
DESCRIPTION:<p><strong>PIAA Championships Poster Party</strong><br />
 This year\, Brad Warner and his family would like to welcome all athletes to their home to create state meet door posters.</p>
 <p>(this information was previously announced at our pre-practice team meetings and shared via athletes' group text) </p>
 <p>Details\:<br />
 State Meet Posters<br />
 Warner Residence\, 6490 Huntsmen Drive\, Harrisburg 17111<br />
 6\:30 p.m. on Sunday\, March 8</p>
 <p>Questions about this get together should be directed to Brad Warner.</p>
 
END:VEVENT
BEGIN:VEVENT
DTSTAMP;VALUE=DATE-TIME:20260422T090223Z
DTSTART;VALUE=DATE-TIME:20260312T130000Z
DTEND;VALUE=DATE-TIME:20260315T033000Z
UID:https://www.bmcdswimming.org/index.php?q=node/645
URL;VALUE=URI:https://www.bmcdswimming.org/index.php?q=node/645
SUMMARY:2026 PIAA Swimming & Diving Championship Meet - March 13-14 at Bucknell University
DESCRIPTION:<p>2026 PIAA Swimming &amp\; Diving Championship Meet - March 13-14 at Bucknell University</p>
 <p>The 2025-2026 PIAA Swimming and Diving Championships will be conducted on Wednesday\, March 11 through Saturday\, March 14 in Kinney Natatorium on the campus of Bucknell University\, Lewisburg\, PA.  Girls and Boys AAA competition will occur on Wednesday and Thursday <strong>Boys and Girls and Boys AA competition will occur on Friday and Saturday</strong>.</p>
 
END:VEVENT
BEGIN:VEVENT
DTSTAMP;VALUE=DATE-TIME:20260422T090223Z
DTSTART;VALUE=DATE-TIME:20260318T230000Z
DTEND;VALUE=DATE-TIME:20260319T013000Z
UID:https://www.bmcdswimming.org/index.php?q=node/646
URL;VALUE=URI:https://www.bmcdswimming.org/index.php?q=node/646
SUMMARY:Bishop McDevitt Swimming & Diving End of Season Dinner - Wednesday\, March 18 from 6\:00-8\:30 p.m. at the Colonial Country Club
DESCRIPTION:<p>Bishop McDevitt Swimming &amp\; Diving will honor all swimmers and divers at an end of season dinner on Wednesday\, March 18 from 6\:00-8\:30 p.m. at the Colonial Country Club.</p>
 <p>Menu set by the team captains\:<br />
 Pull pork sliders<br />
 Burgers<br />
 Fries<br />
 Ice Cream bar</p>
 <p>There is no cost for athletes to attend.  Additional non-athlete guests are $25/person.  </p>
 <p><strong>RSVP to Dina Duffy with the number attending\: Dina - <a href=\\"mailto\:Pacienza2@yahoo.com\\">Pacienza2@yahoo.com</a> </strong></p>
 <p>Payments can be dropped off to Gina Crawford in the high school office.  If paying by check\, please make payable to Bishop McDevitt Swimming &amp\; Diving.</p>
 
END:VEVENT
END:VCALENDAR
