BEGIN:VCALENDAR
VERSION:2.0
METHOD:PUBLISH
X-WR-CALNAME:Bishop McDevitt Swimming & Diving |  December 04 2016- December 11 2016
PRODID:-//strange bird labs//Drupal iCal API//EN
BEGIN:VEVENT
DTSTAMP;VALUE=DATE-TIME:20260420T181819Z
DTSTART;VALUE=DATE-TIME:20161127T203000Z
DTEND;VALUE=DATE-TIME:20161227T170000Z
UID:https://www.bmcdswimming.org/index.php?q=node/180
URL;VALUE=URI:https://www.bmcdswimming.org/index.php?q=node/180
SUMMARY:Season Schedule Poster Photos - Monday\, November 27th at Central Penn
DESCRIPTION:<p>Season Schedule Poster Photos - Monday\, November 27th at Central Penn</p>
 <p>Season Schedule Poster Photos - Thursday\, November 27th at Central Penn</p>
 <p>Please feel free to contact Jill at <a href=\\"mailto\:jmtenny68@gmail.com\\">jmtenny68@gmail.com</a> with any questions about custom McDevitt Swimming season schedule posters.</p>
 <p>Custom posters will be made for each swimmer who elects to participate.</p>
 <p>Posters will be 13\\" x 19\\" on glossy<br />
 poster stock paper.</p>
 <p>Posters will include swimmer's photo\, name &amp\; class (Fr\, So\, Jr\, Sr) and the season's schedule of dual meets and invitationals.</p>
 
END:VEVENT
BEGIN:VEVENT
DTSTAMP;VALUE=DATE-TIME:20260420T181819Z
DTSTART;VALUE=DATE-TIME:20161207T204500Z
DTEND;VALUE=DATE-TIME:20161207T224500Z
UID:https://www.bmcdswimming.org/index.php?q=node/193
URL;VALUE=URI:https://www.bmcdswimming.org/index.php?q=node/193
SUMMARY:Orders for Pre-Meet Sub/Lunch Due - Wednesday\, December 7
DESCRIPTION:<p>McDevitt swimmers that chooses to have a sub/bag lunch delivered to the bus prior to departing for meets must return the <a href=\\"http\://www.bmcdswimming.org/sites/default/files/McD%20Swim%20Team%20Pre-Meet%20Sub%20Order%20Form%202016.pdf\\">request form</a>  and payment to Coach Addie by Wednesday\, December 7.</p>
 
END:VEVENT
END:VCALENDAR
