BEGIN:VCALENDAR
VERSION:2.0
METHOD:PUBLISH
X-WR-CALNAME:Bishop McDevitt Swimming & Diving |  April 03 2016- May 03 2016
PRODID:-//strange bird labs//Drupal iCal API//EN
BEGIN:VEVENT
DTSTAMP;VALUE=DATE-TIME:20260420T023427Z
DTSTART;VALUE=DATE-TIME:20160404T230000Z
DTEND;VALUE=DATE-TIME:20160405T010000Z
UID:https://www.bmcdswimming.org/index.php?q=node/169
URL;VALUE=URI:https://www.bmcdswimming.org/index.php?q=node/169
SUMMARY:Bishop McDevitt High School Swim Team Banquet - Monday April 4 at Red Lion Hotel
DESCRIPTION:<p><strong>2016 Bishop McDevitt High School Swim Team Banquet</strong><br />
 Monday April 4\, 2016<br />
 6\:00 PM<br />
 Red Lion Hotel Harrisburg Hershey<br />
 4751 Lindle Road\, Harrisburg\, PA 17111</p>
 <p>Buffet menu<br />
 Garden salad<br />
 Fresh Fruit Salad<br />
 Baked Lasagna<br />
 Italian Herb Baked Chicken<br />
 Oven Roasted Red Potatoes<br />
 Seasonal Vegetable Medley<br />
 Fresh Rolls &amp\; Butter<br />
 Assorted Desserts<br />
 Coffee\, Tea\, Iced Tea and Lemonade</p>
 <p>Adults $17.00<br />
 Children 10 &amp\; under $12.00<br />
 Swimmer cost covered by Team</p>
 
END:VEVENT
END:VCALENDAR
