BEGIN:VCALENDAR
VERSION:2.0
METHOD:PUBLISH
X-WR-CALNAME:Bishop McDevitt Swimming & Diving |  March 13 2016- March 20 2016
PRODID:-//strange bird labs//Drupal iCal API//EN
BEGIN:VEVENT
DTSTAMP;VALUE=DATE-TIME:20260420T071327Z
DTSTART;VALUE=DATE-TIME:20160316T130000Z
DTEND;VALUE=DATE-TIME:20160320T013000Z
UID:https://www.bmcdswimming.org/index.php?q=node/168
URL;VALUE=URI:https://www.bmcdswimming.org/index.php?q=node/168
SUMMARY:2016 PIAA Swimming & Diving Championship Meet - March 16-19 at Bucknell University
DESCRIPTION:<p>Congratulations to all Bishop McDevitt athletes that participated in the 2016 PIAA Swimming &amp\; Diving Championship Meet\:  Jonathan Mata\, Alex Pompei\, Matt Yoffe\, Josiah Lauver\, and Mason Roadcap.</p>
 <p>The boys 200 Medley Relay team of Jonathan Mata\, Alex Pompei\, Matt Yoffe\, and Josiah Lauver earned a fifth place medal and established a new team record of 1\:39.26.</p>
 <p>Josiah Lauver and Jonathan Mata advanced to evening finals in the 100 Backstroke.  Jonathan finished 10th and Josiah earned a fifth place medal with a new team record of 51.94.</p>
 
END:VEVENT
END:VCALENDAR
