BEGIN:VCALENDAR
VERSION:2.0
METHOD:PUBLISH
X-WR-CALNAME:Bishop McDevitt Swimming & Diving |  February 12 2016- March 13 2016
PRODID:-//strange bird labs//Drupal iCal API//EN
BEGIN:VEVENT
DTSTAMP;VALUE=DATE-TIME:20260420T072923Z
DTSTART;VALUE=DATE-TIME:20160212T050000Z
DTEND;VALUE=DATE-TIME:20160213T230000Z
UID:https://www.bmcdswimming.org/index.php?q=node/159
URL;VALUE=URI:https://www.bmcdswimming.org/index.php?q=node/159
SUMMARY:Mid Penn Conference Championship Meet - at February 12-13\, 2016 at CV High School
DESCRIPTION:<p>MID PENN CONFERENCE CHAMPIONSHIPS<br />
 February 12-13\, 2016<br />
 at Cumberland Valley High School</p>
 <p><strong>Friday\, February 12</strong><br />
 Depart from McD\: 1\:30 p.m.<br />
 McD Warm-up\: 3\:10-3\:30 p.m.<br />
 Meet Begin\: 5\:02 p.m. (start time for broadcast purposes - <a href=\\"https\://www.harrisburgregionalchamber.org/whtm-abc27-launches-new-gettv-on-channel-27-3/\\">ABC LAUNCHES NEW “getTV” ON CHANNEL 27.3</a>)</p>
 <p><strong>Saturday\, February 13</strong><br />
 Depart from McD\: 8\:00 a.m.<br />
 McD Warm-up\: 9\:10-9\:30 a.m.<br />
 Meet Begin\: 11\:00 a.m.</p>
 
END:VEVENT
BEGIN:VEVENT
DTSTAMP;VALUE=DATE-TIME:20260420T072923Z
DTSTART;VALUE=DATE-TIME:20160220T123000Z
DTEND;VALUE=DATE-TIME:20160220T193000Z
UID:https://www.bmcdswimming.org/index.php?q=node/163
URL;VALUE=URI:https://www.bmcdswimming.org/index.php?q=node/163
SUMMARY:Mid Penn Plunge Swim Meet February 20\, 2016 at Northern HS  
DESCRIPTION:<p><strong>Mid Penn Conference Plunge Invitational</strong><br />
 February 20\, 2016<br />
 at Northern High School</p>
 <p><a href=\\"http\://www.bmcdswimming.org/sites/default/files/Plunge%202016%20Meet%20Invitation%20-%20Final%20v2.pdf\\">2016 Mid Penn Plunge Information Packet Provided by Meet Host</a></p>
 <p>TIMES\: </p>
 <p>Warm-ups\: 7\:30-9\:30 a.m.<br />
 There will also be additional warmup/cooldown periods during the meet.<br />
 Mandatory final scratches-only meeting\: 9\:15 a.m.<br />
 One-way sprints\: 9\:30-9\:50 a.m.<br />
 Meet begins\: 10\:00 a.m.</p>
 
END:VEVENT
BEGIN:VEVENT
DTSTAMP;VALUE=DATE-TIME:20260420T072923Z
DTSTART;VALUE=DATE-TIME:20160304T160000Z
DTEND;VALUE=DATE-TIME:20160305T190000Z
UID:https://www.bmcdswimming.org/index.php?q=node/165
URL;VALUE=URI:https://www.bmcdswimming.org/index.php?q=node/165
SUMMARY:2016 District III Swimming and Diving Championships - March 4-5 at CV High School
DESCRIPTION:<p><strong>District III Swimming and Diving Championships</strong><br />
 Friday March 4 - Saturday March 5<br />
 at Cumberland Valley High School</p>
 <p><a href=\\"http\://www.bmcdswimming.org/sites/default/files/2016%20District%20III%20Swim%20Meet%20Time%20Schedule.pdf\\">District 3 Championship Meet Timeline</a> </p>
 <p><a href=\\"http\://piaadistrict3.org/wp-content/uploads/2011/01/SWIM-AA-GIRLS-PSYCH-2016.pdf\\">2016 District 3 AA Girls Psych Sheets</a></p>
 <p><a href=\\"http\://piaadistrict3.org/wp-content/uploads/2011/01/SWIM-AA-BOYS-PSYCH-2016.pdf\\">2016 District 3 AA Boys Psych Sheets</a></p>
 
END:VEVENT
END:VCALENDAR
