BEGIN:VCALENDAR
VERSION:2.0
METHOD:PUBLISH
X-WR-CALNAME:Bishop McDevitt Swimming & Diving |  January 24 2016- January 31 2016
PRODID:-//strange bird labs//Drupal iCal API//EN
BEGIN:VEVENT
DTSTAMP;VALUE=DATE-TIME:20260420T203129Z
DTSTART;VALUE=DATE-TIME:20160123T120000Z
DTEND;VALUE=DATE-TIME:20160124T200000Z
UID:https://www.bmcdswimming.org/index.php?q=node/160
URL;VALUE=URI:https://www.bmcdswimming.org/index.php?q=node/160
SUMMARY: National Catholic Swimming & Diving Championship - January 23-24 at Loyola University Maryland
DESCRIPTION:<p>Loyola University Maryland is proud to host the 81st National Catholic High School Swimming and Diving Championship Meet.   The National Catholic Championships will be held on the weekend of January 23rd &amp\; 24th\, 2016 at the Mangione Aquatic Center on the Evergreen campus of Loyola University Maryland in Baltimore.  </p>
 <p><a href=\\"http\://www.nationalcatholicswimming.com/home.html\\">Meet Website</a></p>
 <p><a href=\\"http\://www.nationalcatholicswimming.com/meet-information.html\\">Important Meet Information</a></p>
 
END:VEVENT
BEGIN:VEVENT
DTSTAMP;VALUE=DATE-TIME:20260420T203129Z
DTSTART;VALUE=DATE-TIME:20160127T210000Z
DTEND;VALUE=DATE-TIME:20160127T230000Z
UID:https://www.bmcdswimming.org/index.php?q=node/148
URL;VALUE=URI:https://www.bmcdswimming.org/index.php?q=node/148
SUMMARY:Bishop McDevitt v Cedar Cliff at Red Land HS - Postponsed to January 27\, 2016
DESCRIPTION:<p>* * UPDATE * * </p>
 <p>A second update...the meet with Cedar Cliff has been postponed to Wednesday\, January 27.  All times remain the same.</p>
 <p>* * * * * * * </p>
 <p>The location of this meet is the <a href=\\"http\://www.wssd.k12.pa.us/natatorium.cfm\\"> West Shore Natatorium</a> at Red Land High School.</p>
 <p>Red Land High School<br />
 560 Fishing Creek Road<br />
 Lewisberry\, PA 17070-0803</p>
 <p>The natatorium is located off of Exit 36 on I83. I83 south from Camp Hill or Harrisburg you turn right onto Fishing Creek Road.</p>
 <p>Meet is scheduled to begin at 4\:00 p.m. with a 2\:30 p.m. bus departure from McD.</p>
 
END:VEVENT
END:VCALENDAR
