BEGIN:VCALENDAR
VERSION:2.0
METHOD:PUBLISH
X-WR-CALNAME:Bishop McDevitt Swimming & Diving |  January 01 2016- February 01 2016
PRODID:-//strange bird labs//Drupal iCal API//EN
BEGIN:VEVENT
DTSTAMP;VALUE=DATE-TIME:20260420T080935Z
DTSTART;VALUE=DATE-TIME:20160104T204500Z
DTEND;VALUE=DATE-TIME:20160104T224500Z
UID:https://www.bmcdswimming.org/index.php?q=node/157
URL;VALUE=URI:https://www.bmcdswimming.org/index.php?q=node/157
SUMMARY:R&K January Fundraiser Orders Due - January 4 at Practice
DESCRIPTION:<p><strong>R&amp\;K January Fundraiser</strong></p>
 <p>Orders and money due Monday\,January 4\, 2016 during practice.<br />
 Delivery\:  Wednesday\, January 20 at 6\:00 pm at Central Penn</p>
 <p>Please contact Katie Hudak with questions.<br />
 home-657-3105<br />
 cell-350-6105</p>
 <p>Orders may be given to Kaitlin Hudak at practice.</p>
 
END:VEVENT
BEGIN:VEVENT
DTSTAMP;VALUE=DATE-TIME:20260420T080935Z
DTSTART;VALUE=DATE-TIME:20160107T210000Z
DTEND;VALUE=DATE-TIME:20160107T230000Z
UID:https://www.bmcdswimming.org/index.php?q=node/145
URL;VALUE=URI:https://www.bmcdswimming.org/index.php?q=node/145
SUMMARY:Bishop McDevitt at Milton Hershey - January 7\, 2016
DESCRIPTION:<p>The location of this meet is the Spartan Athletic Center on the Milton Hershey School campus.  A link to directions provided on the Milton Hershey web site is <a href=\\"http\://www.mhskids.org/about/maps-directions/\\">HERE</a></p>
 <p>Meet is scheduled to begin at 4\:00 p.m. with a 2\:30 p.m. bus departure from McD.</p>
 <p>One small modification will be made for this meet.  Diving will occur after the 100 Fly.  The order would be Medley Relay\, 200 Free\, 200 IM\, 50 Free\, 100 Fly\, Diving\, 100 Free etc.</p>
 
END:VEVENT
BEGIN:VEVENT
DTSTAMP;VALUE=DATE-TIME:20260420T080935Z
DTSTART;VALUE=DATE-TIME:20160112T210000Z
DTEND;VALUE=DATE-TIME:20160112T230000Z
UID:https://www.bmcdswimming.org/index.php?q=node/146
URL;VALUE=URI:https://www.bmcdswimming.org/index.php?q=node/146
SUMMARY:Bishop McDevitt at Red Land - January 12\, 2016
DESCRIPTION:<p>Location\: “West Shore” Natatorium at Red Land High School</p>
 <p>Red Land High School<br />
 560 Fishing Creek Road<br />
 Lewisberry\, PA 17339-9510</p>
 <p>The West Shore natatorium (home to Red Land and Cedar Cliff Swimming) is located off of Exit 36 on I83. </p>
 <p>Directions\:<br />
 FROM HARRISBURG/HERSHEY AREA AND WEST</p>
 <p>Take 83 South to Exit 36\, Fishing Creek Exit (Old Exit 16)<br />
 Turn right at stop sign onto 262 West.<br />
 Continue on 262 West for .4 of a mile to Red Land High School entrance on left.</p>
 <p>Meet is scheduled to begin at 4\:00 p.m. with a 2\:30 p.m. bus departure from McD.</p>
 
END:VEVENT
BEGIN:VEVENT
DTSTAMP;VALUE=DATE-TIME:20260420T080935Z
DTSTART;VALUE=DATE-TIME:20160118T150000Z
DTEND;VALUE=DATE-TIME:20160118T170000Z
UID:https://www.bmcdswimming.org/index.php?q=node/155
URL;VALUE=URI:https://www.bmcdswimming.org/index.php?q=node/155
SUMMARY:Bishop McDevitt Swimming 1st Annual Zumba to Chipotle - January 18\, 2016 at Bishop McDevitt HS & Chipotle 
DESCRIPTION:<p><strong>Bishop McDevitt Swimming invites all students and staff to the first annual Zumba to Chipotle on Monday\, January 18</strong></p>
 <p>The <a href=\\"http\://www.bmcdswimming.org/?q=node/155\\">\\"Zumba to Chipotle' web page</a> has been updated with flyers and additional information.</p>
 
END:VEVENT
BEGIN:VEVENT
DTSTAMP;VALUE=DATE-TIME:20260420T080935Z
DTSTART;VALUE=DATE-TIME:20160119T213000Z
DTEND;VALUE=DATE-TIME:20160119T233000Z
UID:https://www.bmcdswimming.org/index.php?q=node/147
URL;VALUE=URI:https://www.bmcdswimming.org/index.php?q=node/147
SUMMARY:Bishop McDevitt at Mechanicsburg - January 19\, 2016
DESCRIPTION:<p>Location\: Mechanicsburg High School Natatorium</p>
 <p>Mechanicsburg Area Senior High School<br />
 500 South Broad Street<br />
 Mechanicsburg\, PA 17055</p>
 <p>Mechanicsburg charges an admission fee for swim meets.  Adults are $4.00 and students are $2.00.  </p>
 <p>The meet is scheduled to begin at 4\:30 p.m. with a 2\:30 p.m. bus departure from McD.</p>
 <p>Diving will not be contested at this meet.</p>
 <p>Parents may sign-up to volunteer or provide drink/snack donations <a href=\\"https\://www.timetosignup.com/mcdswimming/sheet/51632\\">HERE</a></p>
 
END:VEVENT
BEGIN:VEVENT
DTSTAMP;VALUE=DATE-TIME:20260420T080935Z
DTSTART;VALUE=DATE-TIME:20160120T204500Z
DTEND;VALUE=DATE-TIME:20160120T213000Z
UID:https://www.bmcdswimming.org/index.php?q=node/161
URL;VALUE=URI:https://www.bmcdswimming.org/index.php?q=node/161
SUMMARY:Team Photos - (Indvidual & Team) Scheduled for Wednesday\, January 20 at 3\:45 at Central Penn
DESCRIPTION:<p>The official team photo has been scheduled for Wednesday\, January 20 at 3\:45 at Central Penn.  This time is not flexible!  Please plan to arrive shortly after 3\:30 p.m. so the photographer(s) may complete team\, class\, and individual photos in a timely manner.  All swimmers should dress in their team suits and warm ups and be ready by 3\:45 p.m.</p>
 <p>Order forms provided by The Camera Box will be distributed at practice on Friday\, January 8 and Monday\, January 11.</p>
 
END:VEVENT
BEGIN:VEVENT
DTSTAMP;VALUE=DATE-TIME:20260420T080935Z
DTSTART;VALUE=DATE-TIME:20160123T120000Z
DTEND;VALUE=DATE-TIME:20160124T200000Z
UID:https://www.bmcdswimming.org/index.php?q=node/160
URL;VALUE=URI:https://www.bmcdswimming.org/index.php?q=node/160
SUMMARY: National Catholic Swimming & Diving Championship - January 23-24 at Loyola University Maryland
DESCRIPTION:<p>Loyola University Maryland is proud to host the 81st National Catholic High School Swimming and Diving Championship Meet.   The National Catholic Championships will be held on the weekend of January 23rd &amp\; 24th\, 2016 at the Mangione Aquatic Center on the Evergreen campus of Loyola University Maryland in Baltimore.  </p>
 <p><a href=\\"http\://www.nationalcatholicswimming.com/home.html\\">Meet Website</a></p>
 <p><a href=\\"http\://www.nationalcatholicswimming.com/meet-information.html\\">Important Meet Information</a></p>
 
END:VEVENT
BEGIN:VEVENT
DTSTAMP;VALUE=DATE-TIME:20260420T080935Z
DTSTART;VALUE=DATE-TIME:20160127T210000Z
DTEND;VALUE=DATE-TIME:20160127T230000Z
UID:https://www.bmcdswimming.org/index.php?q=node/148
URL;VALUE=URI:https://www.bmcdswimming.org/index.php?q=node/148
SUMMARY:Bishop McDevitt v Cedar Cliff at Red Land HS - Postponsed to January 27\, 2016
DESCRIPTION:<p>* * UPDATE * * </p>
 <p>A second update...the meet with Cedar Cliff has been postponed to Wednesday\, January 27.  All times remain the same.</p>
 <p>* * * * * * * </p>
 <p>The location of this meet is the <a href=\\"http\://www.wssd.k12.pa.us/natatorium.cfm\\"> West Shore Natatorium</a> at Red Land High School.</p>
 <p>Red Land High School<br />
 560 Fishing Creek Road<br />
 Lewisberry\, PA 17070-0803</p>
 <p>The natatorium is located off of Exit 36 on I83. I83 south from Camp Hill or Harrisburg you turn right onto Fishing Creek Road.</p>
 <p>Meet is scheduled to begin at 4\:00 p.m. with a 2\:30 p.m. bus departure from McD.</p>
 
END:VEVENT
END:VCALENDAR
