BEGIN:VCALENDAR
VERSION:2.0
METHOD:PUBLISH
X-WR-CALNAME:Bishop McDevitt Swimming & Diving |  December 27 2015- January 03 2016
PRODID:-//strange bird labs//Drupal iCal API//EN
BEGIN:VEVENT
DTSTAMP;VALUE=DATE-TIME:20260421T013552Z
DTSTART;VALUE=DATE-TIME:20151228T150000Z
DTEND;VALUE=DATE-TIME:20151228T190000Z
UID:https://www.bmcdswimming.org/index.php?q=node/144
URL;VALUE=URI:https://www.bmcdswimming.org/index.php?q=node/144
SUMMARY:Bulldog Bash Invite at Big Spring HS - December 28\, 2015
DESCRIPTION:<p>*  *  *  *  *  *  </p>
 <p><strong>A team bus WILL be departing from Bishop McDevitt High School to Big Spring High School at 8\:00 a.m.</strong></p>
 <p>*  *  *  *  *  *</p>
 <p>Warm Up\: TBA a.m. (20 minute warm up sessions). </p>
 <p>Meet Starts\: 10\:00 a.m.</p>
 <p>Psych sheets posted <a href=\\"\\">HERE (when available)</a> </p>
 <p><a><br />
 <a></a></a></p>
 <p>DATE\: Monday\, December 28\, 2015</p>
 <p>WHERE\: Big Spring High School Natatorium</p>
 <p>Big Spring High School<br />
 100 Mount Rock Road<br />
 Newville\, PA 17241</p>
 <p>Directions\:</p>
 
END:VEVENT
END:VCALENDAR
