BEGIN:VCALENDAR
VERSION:2.0
METHOD:PUBLISH
X-WR-CALNAME:Bishop McDevitt Swimming & Diving |  December 20 2015- December 27 2015
PRODID:-//strange bird labs//Drupal iCal API//EN
BEGIN:VEVENT
DTSTAMP;VALUE=DATE-TIME:20260421T050252Z
DTSTART;VALUE=DATE-TIME:20151222T220000Z
DTEND;VALUE=DATE-TIME:20151223T000000Z
UID:https://www.bmcdswimming.org/index.php?q=node/143
URL;VALUE=URI:https://www.bmcdswimming.org/index.php?q=node/143
SUMMARY:Bishop McDevitt vs. Susquehanna Twp. (at Milton Hershey High School) - December 22\, 2015
DESCRIPTION:<p>Bishop McDevitt vs. Susquehanna Twp. (at Milton Hershey High School) - Tuesday\, December 22\, 2015</p>
 <p>Use this address\:</p>
 <p>Spartan Center Performance Gym<br />
 665 Brook Drive<br />
 Hershey\, PA 17033</p>
 <p>The meet is scheduled to begin at 4\:00 p.m. with a 2\:30 p.m. bus departure from McD.</p>
 <p>Diving will not be contested at this meet.</p>
 <p>Parents may sign-up to volunteer or provide drink/snack donations <a href=\\"https\://www.timetosignup.com/mcdswimming/sheet/51629\\">HERE</a></p>
 
END:VEVENT
END:VCALENDAR
