BEGIN:VCALENDAR
VERSION:2.0
METHOD:PUBLISH
X-WR-CALNAME:Bishop McDevitt Swimming & Diving |  November 07 2015- December 07 2015
PRODID:-//strange bird labs//Drupal iCal API//EN
BEGIN:VEVENT
DTSTAMP;VALUE=DATE-TIME:20260421T082652Z
DTSTART;VALUE=DATE-TIME:20151109T130000Z
DTEND;VALUE=DATE-TIME:20151109T170000Z
UID:https://www.bmcdswimming.org/index.php?q=node/134
URL;VALUE=URI:https://www.bmcdswimming.org/index.php?q=node/134
SUMMARY:Winter Sport Physicals - Monday\, November 9 at 9am at McD High School
DESCRIPTION:<p>Winter sport physicals are Monday\, November 9 at 9am at McD High School.</p>
 
END:VEVENT
BEGIN:VEVENT
DTSTAMP;VALUE=DATE-TIME:20260421T082652Z
DTSTART;VALUE=DATE-TIME:20151109T210000Z
DTEND;VALUE=DATE-TIME:20151109T224500Z
UID:https://www.bmcdswimming.org/index.php?q=node/139
URL;VALUE=URI:https://www.bmcdswimming.org/index.php?q=node/139
SUMMARY:First Unofficial Practice - Monday\, November 9
DESCRIPTION:<p>First Unofficial Practice - Monday\, November 9</p>
 
END:VEVENT
BEGIN:VEVENT
DTSTAMP;VALUE=DATE-TIME:20260421T082652Z
DTSTART;VALUE=DATE-TIME:20151116T210000Z
DTEND;VALUE=DATE-TIME:20151116T230000Z
UID:https://www.bmcdswimming.org/index.php?q=node/137
URL;VALUE=URI:https://www.bmcdswimming.org/index.php?q=node/137
SUMMARY:First Official Practice - Monday\, November 16
DESCRIPTION:<p>First official practice date for winter sports permitted by PIAA\: Monday\, November 16\, 2015</p>
 
END:VEVENT
END:VCALENDAR
