BEGIN:VCALENDAR
VERSION:2.0
METHOD:PUBLISH
X-WR-CALNAME:Bishop McDevitt Swimming & Diving |  October 15 2015- November 14 2015
PRODID:-//strange bird labs//Drupal iCal API//EN
BEGIN:VEVENT
DTSTAMP;VALUE=DATE-TIME:20260421T055432Z
DTSTART;VALUE=DATE-TIME:20151026T233000Z
DTEND;VALUE=DATE-TIME:20151027T003000Z
UID:https://www.bmcdswimming.org/index.php?q=node/136
URL;VALUE=URI:https://www.bmcdswimming.org/index.php?q=node/136
SUMMARY:Mid Penn Conference Coach's Meeting - Monday\, October 26 at Cumberland Valley HS 
DESCRIPTION:<p>Mid Penn Conference Coach's Meeting will be held on Monday\, October 26\, at 6\:30 p.m. at the Cumberland Valley HS Cafeteria.  The Rules Interpretation meeting will be at 7\:15 p.m.\, immediately after the coaches meeting.</p>
 
END:VEVENT
BEGIN:VEVENT
DTSTAMP;VALUE=DATE-TIME:20260421T055432Z
DTSTART;VALUE=DATE-TIME:20151101T190000Z
DTEND;VALUE=DATE-TIME:20151101T210000Z
UID:https://www.bmcdswimming.org/index.php?q=node/135
URL;VALUE=URI:https://www.bmcdswimming.org/index.php?q=node/135
SUMMARY:Bishop McDevitt's Annual Fall Open House - Sunday\, November 1 at Bishop McDevitt HS
DESCRIPTION:<p>Bishop McDevitt's annual fall open house is Sunday\, November 1 from 2\:00-4\:00 p.m.  Athletics will be featured in the high school gymnasium.  One or two swimmers will be invited to assist during this event.</p>
 
END:VEVENT
BEGIN:VEVENT
DTSTAMP;VALUE=DATE-TIME:20260421T055432Z
DTSTART;VALUE=DATE-TIME:20151106T000000Z
DTEND;VALUE=DATE-TIME:20151106T010000Z
UID:https://www.bmcdswimming.org/index.php?q=node/140
URL;VALUE=URI:https://www.bmcdswimming.org/index.php?q=node/140
SUMMARY:McD Swimming Parent & Swimmers' Meeting - Thursday\, November 5 at Central Penn Fitness
DESCRIPTION:<p>A pre-season information and planning meeting will be held on Thursday\, November 5 at 7\:00 at the Central Penn Fitness Center.  All returning and potential new parents of swimmers should plan to attend this meeting.  New swimmers may also attend this meeting.</p>
 <p>The following topics will be discussed\:</p>
 <p>Collect contact information for new and returning members.<br />
 Review practice and meet schedules.<br />
 Review meet expectations for swimmers and volunteers.<br />
 Review general expectations for swimmers.<br />
 Review apparel and equipment guidelines.<br />
 Review team expenses.</p>
 
END:VEVENT
BEGIN:VEVENT
DTSTAMP;VALUE=DATE-TIME:20260421T055432Z
DTSTART;VALUE=DATE-TIME:20151109T130000Z
DTEND;VALUE=DATE-TIME:20151109T170000Z
UID:https://www.bmcdswimming.org/index.php?q=node/134
URL;VALUE=URI:https://www.bmcdswimming.org/index.php?q=node/134
SUMMARY:Winter Sport Physicals - Monday\, November 9 at 9am at McD High School
DESCRIPTION:<p>Winter sport physicals are Monday\, November 9 at 9am at McD High School.</p>
 
END:VEVENT
BEGIN:VEVENT
DTSTAMP;VALUE=DATE-TIME:20260421T055432Z
DTSTART;VALUE=DATE-TIME:20151109T210000Z
DTEND;VALUE=DATE-TIME:20151109T224500Z
UID:https://www.bmcdswimming.org/index.php?q=node/139
URL;VALUE=URI:https://www.bmcdswimming.org/index.php?q=node/139
SUMMARY:First Unofficial Practice - Monday\, November 9
DESCRIPTION:<p>First Unofficial Practice - Monday\, November 9</p>
 
END:VEVENT
END:VCALENDAR
