BEGIN:VCALENDAR
VERSION:2.0
METHOD:PUBLISH
X-WR-CALNAME:Bishop McDevitt Swimming & Diving |  August 30 2015- September 29 2015
PRODID:-//strange bird labs//Drupal iCal API//EN
BEGIN:VEVENT
DTSTAMP;VALUE=DATE-TIME:20260421T145033Z
DTSTART;VALUE=DATE-TIME:20150911T223000Z
DTEND;VALUE=DATE-TIME:20150912T030000Z
UID:https://www.bmcdswimming.org/index.php?q=node/132
URL;VALUE=URI:https://www.bmcdswimming.org/index.php?q=node/132
SUMMARY:Bishop McDevitt Swim Team Sponsored Bake Sale - Home Football Game - Friday\, September 11
DESCRIPTION:<p>What\: Bake Sale at McD Football Game <br />
 Date\: Friday\, Sept. 11th<br />
 Place\:  McD Football Stadium <br />
 Time\:  5\:30 - Baked good drop off and multiple shifts to choose from (see sign up sheet)</p>
 <p>Who\: We need both parents and swimmers to participate to make this a success</p>
 <p>Please see the sign up document to sign up for shift and baked goods.  We're going to need 3 parents and 4 swimmers per shift.  </p>
 <p>Please drop baked goods off no later than 5\:30 at the stadium (we will have a table set up in the concourse area). </p>
 <p>This document can be best updated from a computer.  </p>
 <p>Please contact\:</p>
 
END:VEVENT
END:VCALENDAR
