BEGIN:VCALENDAR
VERSION:2.0
METHOD:PUBLISH
X-WR-CALNAME:Bishop McDevitt Swimming & Diving |  August 09 2015- September 08 2015
PRODID:-//strange bird labs//Drupal iCal API//EN
BEGIN:VEVENT
DTSTAMP;VALUE=DATE-TIME:20260422T004000Z
DTSTART;VALUE=DATE-TIME:20150829T150000Z
DTEND;VALUE=DATE-TIME:20150829T180000Z
UID:https://www.bmcdswimming.org/index.php?q=node/131
URL;VALUE=URI:https://www.bmcdswimming.org/index.php?q=node/131
SUMMARY:Bishop McDevitt Swimming Car Wash - Saturday\, August 29
DESCRIPTION:<p>Bishop McDevitt Swimming is sponsoring a car wash on Saturday\, August 29 at the Metro Bank on Allentown Blvd (in front of Karns).  Volunteers and several items will be needed to conduct a successful event.  </p>
 <p>A sign-up sheet for this event is <a>HERE</a> </p>
 <p><a href=\\"https\://docs.google.com/spreadsheets/d/1U1i17A-SxqxI8k3k7iKpi9y31DcZ2zwXGtwgV2OSJQs/edit?usp=docslist_api\\" title=\\"https\://docs.google.com/spreadsheets/d/1U1i17A-SxqxI8k3k7iKpi9y31DcZ2zwXGtwgV2OSJQs/edit?usp=docslist_api\\">https\://docs.google.com/spreadsheets/d/1U1i17A-SxqxI8k3k7iKpi9y31DcZ2zwX...</a></p>
 
END:VEVENT
END:VCALENDAR
