BEGIN:VCALENDAR
VERSION:2.0
METHOD:PUBLISH
X-WR-CALNAME:Bishop McDevitt Swimming & Diving |  March 04 2015- April 03 2015
PRODID:-//strange bird labs//Drupal iCal API//EN
BEGIN:VEVENT
DTSTAMP;VALUE=DATE-TIME:20260422T225225Z
DTSTART;VALUE=DATE-TIME:20150306T170000Z
DTEND;VALUE=DATE-TIME:20150306T190000Z
UID:https://www.bmcdswimming.org/index.php?q=node/127
URL;VALUE=URI:https://www.bmcdswimming.org/index.php?q=node/127
SUMMARY:Bishop McDevitt 8th Grade Orientation Day - March 6 - at Bishop McDevitt
DESCRIPTION:<p>The annual Bishop McDevitt 8th grade Orientation Day is scheduled for Friday\, March 6.  The afternoon tours begin at noon and will last for a two hour period.  The sports portion of the tours will be located in the gym. High school sports are very important to many of our incoming  high school students so this orientation will provide a valuable experience for incoming students to learn more about the program.</p>
 
END:VEVENT
BEGIN:VEVENT
DTSTAMP;VALUE=DATE-TIME:20260422T225225Z
DTSTART;VALUE=DATE-TIME:20150311T120000Z
DTEND;VALUE=DATE-TIME:20150315T010000Z
UID:https://www.bmcdswimming.org/index.php?q=node/129
URL;VALUE=URI:https://www.bmcdswimming.org/index.php?q=node/129
SUMMARY:2015 PIAA Swimming & Diving Championship Meet - March 11-14 at Bucknell University
DESCRIPTION:<p>The following individuals will compete at the 2015 Swimming &amp\; Diving Championship Meet\, March 11-14 at Bucknell University</p>
 <p>Boys 200 Medley Relay - Jonathan Mata\, Alex Pompei\, Wendell Banks\, Mason Roadcap</p>
 <p>Jonathan Mata - 100 Fly</p>
 <p>Jonathan Mata - 100 Back</p>
 <p>Jenna Clancy - 100 Back</p>
 <p><strong>Psych Sheets</strong></p>
 <p><a href=\\"http\://www.piaa.org/assets/web/documents/G2Auto.pdf\\">AA Girls Automatic Qualifiers</a> </p>
 <p><a href=\\"http\://www.piaa.org/assets/web/documents/G2Time.pdf\\">AA Girls At-Large Qualifiers</a></p>
 
END:VEVENT
BEGIN:VEVENT
DTSTAMP;VALUE=DATE-TIME:20260422T225225Z
DTSTART;VALUE=DATE-TIME:20150319T230000Z
DTEND;VALUE=DATE-TIME:20150319T230000Z
UID:https://www.bmcdswimming.org/index.php?q=node/126
URL;VALUE=URI:https://www.bmcdswimming.org/index.php?q=node/126
SUMMARY:End of Season Swim Banquet - March 19 - at Bishop McDevitt High School
DESCRIPTION:<p>Our end of the season dinner is scheduled for Thursday\, March 19\, from 6\:00-10\:00 p.m. at the High School.  </p>
 <p>Please RSVP either way no later than 10\:00P.M. on Monday\, March 16 2015 to Colleen Fisher at <a href=\\"mailto\:ndfam1@comcast.net\\">ndfam1@comcast.net</a>. </p>
 <p>Anyone with pictures from this season is kindly asked to get in touch with Jen Pompei who will coordinate a slide show for the dinner. Photos may be sent to Jen via email at <a href=\\"mailto\:brutuspomp@yahoo.com\\">brutuspomp@yahoo.com</a>\, text at 649-6625 or a flash drive given to Alex.</p>
 
END:VEVENT
END:VCALENDAR
