BEGIN:VCALENDAR
VERSION:2.0
METHOD:PUBLISH
X-WR-CALNAME:Bishop McDevitt Swimming & Diving |  February 22 2015- March 01 2015
PRODID:-//strange bird labs//Drupal iCal API//EN
BEGIN:VEVENT
DTSTAMP;VALUE=DATE-TIME:20260422T225210Z
DTSTART;VALUE=DATE-TIME:20150227T050000Z
DTEND;VALUE=DATE-TIME:20150228T050000Z
UID:https://www.bmcdswimming.org/index.php?q=node/125
URL;VALUE=URI:https://www.bmcdswimming.org/index.php?q=node/125
SUMMARY:2015 District III Swimming and Diving Championships 
DESCRIPTION:<p><strong>District III Swimming and Diving Championships</strong><br />
 Friday February 27 - Saturday February 28<br />
 at Cumberland Valley High School</p>
 <p><a href=\\"http\://www.bmcdswimming.org/sites/default/files/2015%20PIAA%20District%203%20Meet%20Schedule.pdf\\">Championship Meet Timeline</a> </p>
 <p><a href=\\"http\://www.bmcdswimming.org/sites/default/files/PSYCH-G2-v1.pdf\\">AA Girls Psych Sheets</a> </p>
 <p><a href=\\"http\://www.bmcdswimming.org/sites/default/files/PSYCH-B2-v1.pdf\\">AA Boys Psych Sheets</a></p>
 
END:VEVENT
END:VCALENDAR
