BEGIN:VCALENDAR
VERSION:2.0
METHOD:PUBLISH
X-WR-CALNAME:Bishop McDevitt Swimming & Diving |  February 08 2015- February 15 2015
PRODID:-//strange bird labs//Drupal iCal API//EN
BEGIN:VEVENT
DTSTAMP;VALUE=DATE-TIME:20260422T205423Z
DTSTART;VALUE=DATE-TIME:20150214T050000Z
DTEND;VALUE=DATE-TIME:20150214T050000Z
UID:https://www.bmcdswimming.org/index.php?q=node/123
URL;VALUE=URI:https://www.bmcdswimming.org/index.php?q=node/123
SUMMARY:Mid Penn Plunge Swim Meet at Northern HS  - February 14\, 2015
DESCRIPTION:<p>MID PENN CONFERENCE<br />
 Plunge Invitational<br />
 February 14\, 2015<br />
 at Northern High School</p>
 <p>The 2015 Mid Penn Plunge Swimming Meet will be held on Saturday\, February 14th at Northern York High School.  This meet is open for all Mid Penn swimmers who have not competed in the Mid Penn Swimming Championships on February 6-7 and for swimmers from area \\"non-swim\\" schools. </p>
 <p><a href=\\"http\://midpennswimchamp.info/\\">2015 Mid Penn Championship and Plunge Meet web page</a></p>
 
END:VEVENT
END:VCALENDAR
