BEGIN:VCALENDAR
VERSION:2.0
METHOD:PUBLISH
X-WR-CALNAME:Bishop McDevitt Swimming & Diving |  January 25 2015- February 01 2015
PRODID:-//strange bird labs//Drupal iCal API//EN
BEGIN:VEVENT
DTSTAMP;VALUE=DATE-TIME:20260423T022643Z
DTSTART;VALUE=DATE-TIME:20150127T210000Z
DTEND;VALUE=DATE-TIME:20150128T000000Z
UID:https://www.bmcdswimming.org/index.php?q=node/111
URL;VALUE=URI:https://www.bmcdswimming.org/index.php?q=node/111
SUMMARY:Bishop McDevitt v Cedar Cliff at Red Land HS - January 27\, 2015
DESCRIPTION:<p>The location of this meet is the <a href=\\"http\://www.wssd.k12.pa.us/natatorium.cfm\\"> West Shore Natatorium</a> at Red Land High School.</p>
 <p>Red Land High School<br />
 560 Fishing Creek Road<br />
 Lewisberry\, PA 17070-0803</p>
 <p>The natatorium is located off of Exit 36 on I83. I83 south from Camp Hill or Harrisburg you turn right onto Fishing Creek Road.</p>
 <p>Meet is scheduled to begin at 4\:00 p.m. with a 2\:30 p.m. bus departure from McD.</p>
 <p>Parents may sign-up to volunteer or provide drink/snack donations <a href=\\"http\://www.timetosignup.com/mcdswimming/\\">HERE</a></p>
 
END:VEVENT
BEGIN:VEVENT
DTSTAMP;VALUE=DATE-TIME:20260423T022643Z
DTSTART;VALUE=DATE-TIME:20150129T210000Z
DTEND;VALUE=DATE-TIME:20150129T230000Z
UID:https://www.bmcdswimming.org/index.php?q=node/119
URL;VALUE=URI:https://www.bmcdswimming.org/index.php?q=node/119
SUMMARY:Bishop McDevitt at Palmyra - January 29\, 2015
DESCRIPTION:<p>Location\: Palmyra High School Natatorium </p>
 <p>Palmyra Area High School<br />
 1125 Park Drive<br />
 Palmyra\, PA 17078</p>
 <p>Please be advised...<br />
 Palmyra charges regular admission for all home swim meets.<br />
   Adults\: $5.00<br />
   Students  (Gr. 1-12)\: $3.00</p>
 <p>Meet is scheduled to begin at 4\:00 p.m. with a 2\:15 p.m. bus departure from McD.</p>
 <p>Parents may sign-up to volunteer or provide drink/snack donations <a href=\\"http\://www.timetosignup.com/mcdswimming/\\">HERE</a></p>
 
END:VEVENT
END:VCALENDAR
