BEGIN:VCALENDAR
VERSION:2.0
METHOD:PUBLISH
X-WR-CALNAME:Bishop McDevitt Swimming & Diving |  January 11 2015- January 18 2015
PRODID:-//strange bird labs//Drupal iCal API//EN
BEGIN:VEVENT
DTSTAMP;VALUE=DATE-TIME:20260423T033001Z
DTSTART;VALUE=DATE-TIME:20150113T210000Z
DTEND;VALUE=DATE-TIME:20150114T000000Z
UID:https://www.bmcdswimming.org/index.php?q=node/113
URL;VALUE=URI:https://www.bmcdswimming.org/index.php?q=node/113
SUMMARY:Bishop McDevitt at Red Land - January 13\, 2015
DESCRIPTION:<p>Location\: Red Land High School Natatorium </p>
 <p>Red Land High School<br />
 560 Fishing Creek Road<br />
 Lewisberry\, PA 17339-9510</p>
 <p>The natatorium is located off of Exit 36 on I83. I83 south from Camp Hill or Harrisburg you turn right onto Fishing Creek Road.</p>
 <p>Meet is scheduled to begin at 4\:00 p.m. with a 2\:30 p.m. bus departure from McD.</p>
 <p>Parents may sign-up to volunteer or provide drink/snack donations <a href=\\"http\://www.timetosignup.com/mcdswimming/\\">HERE</a></p>
 
END:VEVENT
BEGIN:VEVENT
DTSTAMP;VALUE=DATE-TIME:20260423T033001Z
DTSTART;VALUE=DATE-TIME:20150115T230000Z
DTEND;VALUE=DATE-TIME:20150116T020000Z
UID:https://www.bmcdswimming.org/index.php?q=node/115
URL;VALUE=URI:https://www.bmcdswimming.org/index.php?q=node/115
SUMMARY:Bishop McDevitt vs. Trinity at Messiah College - January 15\, 2015
DESCRIPTION:<p>Bishop McDevitt vs. Trinity (at Messiah College)</p>
 <p>The location of this meet is at the Fredricksen Natatorium (housed in the Sollenberger Sports Complex) on the Messiah College campus\, Grantham.</p>
 <p>Use this address\:<br />
 College Avenue<br />
 Grantham\, PA 17027</p>
 <p>An online map to Messiah College is <a href=\\"https\://maps.google.com/maps?hl=en&amp\;q=College+Avenue\,+Grantham\,+PA&amp\;ie=UTF-8&amp\;hq=&amp\;hnear=0x89c8e8bf29dd006b\:0x567f81360edee5c1\,College+Ave\,+Grantham\,+PA&amp\;gl=us&amp\;ei=i5TtUMC_G-rr0QG8vYCIBw&amp\;ved=0CDsQ8gEwAA\\">HERE</a> </p>
 <p>Meet is scheduled to begin at 6\:00 p.m.</p>
 
END:VEVENT
END:VCALENDAR
