BEGIN:VCALENDAR
VERSION:2.0
METHOD:PUBLISH
X-WR-CALNAME:Bishop McDevitt Swimming & Diving |  December 23 2014- January 22 2015
PRODID:-//strange bird labs//Drupal iCal API//EN
BEGIN:VEVENT
DTSTAMP;VALUE=DATE-TIME:20260422T225220Z
DTSTART;VALUE=DATE-TIME:20141223T220000Z
DTEND;VALUE=DATE-TIME:20141224T003000Z
UID:https://www.bmcdswimming.org/index.php?q=node/117
URL;VALUE=URI:https://www.bmcdswimming.org/index.php?q=node/117
SUMMARY:Bishop McDevitt vs. Susquehanna Twp. at East Pennsboro Middle School - December 23\, 2014
DESCRIPTION:<p>Bishop McDevitt vs. Susquehanna Twp. (at East Pennsboro Middle School) - Tues\, December 23\, 2014</p>
 <p>Use this address\:<br />
 529 North Enola Drive<br />
 Enola\, PA 17025-2199</p>
 <p>An online map to EP Middle School is  <a href=\\"http\://maps.google.com/maps?hl=en&amp\;sugexp=les\;&amp\;gs_rn=1&amp\;gs_ri=hp&amp\;cp=43&amp\;gs_id=b&amp\;xhr=t&amp\;bav=on.2\,or.r_gc.r_pw.r_qf.&amp\;bvm=bv.41018144\,d.dmg&amp\;biw=1271&amp\;bih=582&amp\;q=529+North+Enola+Drive\,+Enola\,+PA+17025-2199&amp\;um=1&amp\;ie=UTF-8&amp\;hq=&amp\;hnear=0x89c8c40b52d9b7b5\:0x57c00f4b601a5179\,529+N+Enola+Dr\,+Enola\,+PA+17025&amp\;gl=us&amp\;sa=X&amp\;ei=yOX2UOPZB8eP0QGigoHgDQ&amp\;sqi=2&amp\;ved=0CC0Q8gEwAA\\">HERE</a></p>
 
END:VEVENT
BEGIN:VEVENT
DTSTAMP;VALUE=DATE-TIME:20260422T225220Z
DTSTART;VALUE=DATE-TIME:20141227T140000Z
DTEND;VALUE=DATE-TIME:20141227T180000Z
UID:https://www.bmcdswimming.org/index.php?q=node/114
URL;VALUE=URI:https://www.bmcdswimming.org/index.php?q=node/114
SUMMARY:Bulldog Bash Invite at Big Spring HS - December 27\, 2014
DESCRIPTION:<p>*  *  *  *  *  *<br />
 <strong>UPDATE - There will NOT be a bus transporting students to and from McDevitt High School this year</strong>. </p>
 <p>*  *  *  *  *  *<br />
 Swimmers and parentsl may be needed to car pool.  Please arrive by 7\:00 a.m. at Bishop McDevitt High School the morning of the meet if you require a ride.  Swimmers that need a ride will be confirmed during the Friday\, December 26 practice.</p>
 <p>Psych sheets posted <a href=\\"http\://www.bmcdswimming.org/sites/default/files/14-15%20bulldog%20bash%20psych%20sheets.pdf\\">HERE</a> </p>
 <p><a><br />
 <a></a></a></p>
 <p>DATE\: Saturday\, December 27 \, 2014</p>
 
END:VEVENT
BEGIN:VEVENT
DTSTAMP;VALUE=DATE-TIME:20260422T225220Z
DTSTART;VALUE=DATE-TIME:20150108T210000Z
DTEND;VALUE=DATE-TIME:20150108T210000Z
UID:https://www.bmcdswimming.org/index.php?q=node/112
URL;VALUE=URI:https://www.bmcdswimming.org/index.php?q=node/112
SUMMARY:Bishop McDevitt at Milton Hershey - January 8\, 2015
DESCRIPTION:<p>The location of this meet is the Spartan Center on the Milton Hershey School campus.  A link to directions provided on the Milton Hershey web site is <a href=\\"http\://www.mhskids.org/about/maps-directions/\\">HERE</a></p>
 <p>Meet is scheduled to begin at 4\:00 p.m. with a 2\:30 p.m. bus departure from McD.</p>
 <p>Parents may sign-up to volunteer or provide drink/snack donations <a href=\\"http\://www.timetosignup.com/mcdswimming/sheet/21962 \\">HERE</a></p>
 <p>The homepage for the Milton Hershey School is\: <a href=\\"http\://www.mhs-pa.org\\" title=\\"http\://www.mhs-pa.org\\">http\://www.mhs-pa.org</a></p>
 
END:VEVENT
BEGIN:VEVENT
DTSTAMP;VALUE=DATE-TIME:20260422T225220Z
DTSTART;VALUE=DATE-TIME:20150113T210000Z
DTEND;VALUE=DATE-TIME:20150114T000000Z
UID:https://www.bmcdswimming.org/index.php?q=node/113
URL;VALUE=URI:https://www.bmcdswimming.org/index.php?q=node/113
SUMMARY:Bishop McDevitt at Red Land - January 13\, 2015
DESCRIPTION:<p>Location\: Red Land High School Natatorium </p>
 <p>Red Land High School<br />
 560 Fishing Creek Road<br />
 Lewisberry\, PA 17339-9510</p>
 <p>The natatorium is located off of Exit 36 on I83. I83 south from Camp Hill or Harrisburg you turn right onto Fishing Creek Road.</p>
 <p>Meet is scheduled to begin at 4\:00 p.m. with a 2\:30 p.m. bus departure from McD.</p>
 <p>Parents may sign-up to volunteer or provide drink/snack donations <a href=\\"http\://www.timetosignup.com/mcdswimming/\\">HERE</a></p>
 
END:VEVENT
BEGIN:VEVENT
DTSTAMP;VALUE=DATE-TIME:20260422T225220Z
DTSTART;VALUE=DATE-TIME:20150115T230000Z
DTEND;VALUE=DATE-TIME:20150116T020000Z
UID:https://www.bmcdswimming.org/index.php?q=node/115
URL;VALUE=URI:https://www.bmcdswimming.org/index.php?q=node/115
SUMMARY:Bishop McDevitt vs. Trinity at Messiah College - January 15\, 2015
DESCRIPTION:<p>Bishop McDevitt vs. Trinity (at Messiah College)</p>
 <p>The location of this meet is at the Fredricksen Natatorium (housed in the Sollenberger Sports Complex) on the Messiah College campus\, Grantham.</p>
 <p>Use this address\:<br />
 College Avenue<br />
 Grantham\, PA 17027</p>
 <p>An online map to Messiah College is <a href=\\"https\://maps.google.com/maps?hl=en&amp\;q=College+Avenue\,+Grantham\,+PA&amp\;ie=UTF-8&amp\;hq=&amp\;hnear=0x89c8e8bf29dd006b\:0x567f81360edee5c1\,College+Ave\,+Grantham\,+PA&amp\;gl=us&amp\;ei=i5TtUMC_G-rr0QG8vYCIBw&amp\;ved=0CDsQ8gEwAA\\">HERE</a> </p>
 <p>Meet is scheduled to begin at 6\:00 p.m.</p>
 
END:VEVENT
BEGIN:VEVENT
DTSTAMP;VALUE=DATE-TIME:20260422T225220Z
DTSTART;VALUE=DATE-TIME:20150120T213000Z
DTEND;VALUE=DATE-TIME:20150120T213000Z
UID:https://www.bmcdswimming.org/index.php?q=node/118
URL;VALUE=URI:https://www.bmcdswimming.org/index.php?q=node/118
SUMMARY:Bishop McDevitt at Mechanicsburg - Senior Recognition Night - January 20\, 2015 
DESCRIPTION:<p>Senior swimmers from Bishop McDevitt will be recognized during this meet at approximately 5\:00 p.m.  Parents\, friends\, and other relatives are welcome to be present on deck during this recognition period.</p>
 <p>Location\: Mechanicsburg High School Natatorium</p>
 <p>Mechanicsburg Area Senior High School<br />
 500 South Broad Street<br />
 Mechanicsburg\, PA 17055</p>
 <p>Mechanicsburg charges an admission fee for swim meets.  Adults are $4.00 and students are $2.00.  </p>
 <p>The meet is scheduled to begin at 4\:30 p.m. with a 2\:30 p.m. bus departure from McD.</p>
 <p>Diving will not be contested at this meet.</p>
 
END:VEVENT
END:VCALENDAR
