BEGIN:VCALENDAR
VERSION:2.0
METHOD:PUBLISH
X-WR-CALNAME:Bishop McDevitt Swimming & Diving |  November 30 2014- December 07 2014
PRODID:-//strange bird labs//Drupal iCal API//EN
BEGIN:VEVENT
DTSTAMP;VALUE=DATE-TIME:20260423T040152Z
DTSTART;VALUE=DATE-TIME:20141202T230000Z
DTEND;VALUE=DATE-TIME:20141202T230000Z
UID:https://www.bmcdswimming.org/index.php?q=node/110
URL;VALUE=URI:https://www.bmcdswimming.org/index.php?q=node/110
SUMMARY:McD Swimming Parent's Meeting - Tuesday. December 2
DESCRIPTION:<p>There will be a McDevitt Swimming parents meeting on Tuesday\, December 2 immediately following practice at 6\:00 in the meeting room at Central Penn. </p>
 <p>Topics to be discussed include\: program philosophy\, practice attendance\, meet volunteers &amp\; donations\, apparel &amp\; equipment\, fundraising\, swimmer recognition.</p>
 
END:VEVENT
END:VCALENDAR
