BEGIN:VCALENDAR
VERSION:2.0
METHOD:PUBLISH
X-WR-CALNAME:Bishop McDevitt Swimming & Diving |  November 16 2014- November 23 2014
PRODID:-//strange bird labs//Drupal iCal API//EN
BEGIN:VEVENT
DTSTAMP;VALUE=DATE-TIME:20260423T214039Z
DTSTART;VALUE=DATE-TIME:20141117T213000Z
DTEND;VALUE=DATE-TIME:20141117T230000Z
UID:https://www.bmcdswimming.org/index.php?q=node/106
URL;VALUE=URI:https://www.bmcdswimming.org/index.php?q=node/106
SUMMARY:First Official Day of Swim Practice - Monday\, November 17
END:VEVENT
END:VCALENDAR
