BEGIN:VCALENDAR
VERSION:2.0
METHOD:PUBLISH
X-WR-CALNAME:Bishop McDevitt Swimming & Diving |  November 09 2014- November 16 2014
PRODID:-//strange bird labs//Drupal iCal API//EN
BEGIN:VEVENT
DTSTAMP;VALUE=DATE-TIME:20260425T134039Z
DTSTART;VALUE=DATE-TIME:20141110T210000Z
DTEND;VALUE=DATE-TIME:20141110T230000Z
UID:https://www.bmcdswimming.org/index.php?q=node/105
URL;VALUE=URI:https://www.bmcdswimming.org/index.php?q=node/105
SUMMARY:First Unofficial Day of Swim Practice - Monday\, November 10
END:VEVENT
END:VCALENDAR
