BEGIN:VCALENDAR
VERSION:2.0
METHOD:PUBLISH
X-WR-CALNAME:Bishop McDevitt Swimming & Diving |  October 07 2014- November 06 2014
PRODID:-//strange bird labs//Drupal iCal API//EN
BEGIN:VEVENT
DTSTAMP;VALUE=DATE-TIME:20260423T055836Z
DTSTART;VALUE=DATE-TIME:20141031T125000Z
DTEND;VALUE=DATE-TIME:20141031T131000Z
UID:https://www.bmcdswimming.org/index.php?q=node/108
URL;VALUE=URI:https://www.bmcdswimming.org/index.php?q=node/108
SUMMARY:Pre-Season  Forms
DESCRIPTION:<p>A pre-season meeting was held on Friday\, October 31 at the high school cafeteria.  All returning and prospective new members should have attended this meeting AND returned swimmer/family information and practice facility waiver forms.  </p>
 <p>If you have not done so already\, please make sure the following forms are completed and returned prior to beginning the first practice\:</p>
 <p>1)  <a href=\\"http\://www.bmcdswimming.org/sites/default/files/Bishop%20McDevitt%20Database%20Information%20Form%202014-15.pdf\\">Athlete information form (contact information\, class\, t-shirt size\, etc)</a></p>
 
END:VEVENT
END:VCALENDAR
