BEGIN:VCALENDAR
VERSION:2.0
METHOD:PUBLISH
X-WR-CALNAME:Bishop McDevitt Swimming & Diving |  September 01 2014- October 01 2014
PRODID:-//strange bird labs//Drupal iCal API//EN
BEGIN:VEVENT
DTSTAMP;VALUE=DATE-TIME:20260423T204916Z
DTSTART;VALUE=DATE-TIME:20140910T230000Z
DTEND;VALUE=DATE-TIME:20140911T000000Z
UID:https://www.bmcdswimming.org/index.php?q=node/98
URL;VALUE=URI:https://www.bmcdswimming.org/index.php?q=node/98
SUMMARY:McD Swim Parents Early Planning Meeting - Wednesday\, September 10 
DESCRIPTION:<p>There will be an informal\, non-mandatory parents meeting for all Bishop McDevitt Swimming parents on Wednesday\, September 10 at 6\:00 p.m. in the high school cafeteria.  Swimmers are also welcome to attend.</p>
 <p>Topics for discussion will include a review of last season's expenses\, discuss/confirm fundraising events\, discuss/confirm parent volunteers for meets and special events.  Additional topics may be addressed and ideas and questions will be welcome.</p>
 
END:VEVENT
BEGIN:VEVENT
DTSTAMP;VALUE=DATE-TIME:20260423T204916Z
DTSTART;VALUE=DATE-TIME:20140913T130000Z
DTEND;VALUE=DATE-TIME:20140913T180000Z
UID:https://www.bmcdswimming.org/index.php?q=node/97
URL;VALUE=URI:https://www.bmcdswimming.org/index.php?q=node/97
SUMMARY:Bishop McDevitt Swimming September Car Wash - Saturday\, September 13
DESCRIPTION:<p>The Bishop McDevitt Swim Team will be hosting a car wash on Saturday\, September 13 from 8\:00 a.m. - 1\:00 p.m. at the Metro Bank on Rt 22 in front of Karns. </p>
 <p>McD swimmers\, parents and friends of the program may sign-up to volunteer for this event online  <a href=\\"https\://docs.google.com/spreadsheet/ccc?key=0AuGeDFd-LiETdHhfMjNiUldudk1lM3p3ZlBZRlJQanc&amp\;usp=sharing#gid=0\\">HERE</a> </p>
 <p>If you have any questions about this event\, please contact Mike or Jen Pompei - <a href=\\"mailto\:brutuspomp@yahoo.com\\">brutuspomp@yahoo.com</a></p>
 
END:VEVENT
END:VCALENDAR
