BEGIN:VCALENDAR
VERSION:2.0
METHOD:PUBLISH
X-WR-CALNAME:Bishop McDevitt Swimming & Diving |  May 18 2014- June 17 2014
PRODID:-//strange bird labs//Drupal iCal API//EN
BEGIN:VEVENT
DTSTAMP;VALUE=DATE-TIME:20260424T140423Z
DTSTART;VALUE=DATE-TIME:20140415T230000Z
DTEND;VALUE=DATE-TIME:20140525T010000Z
UID:https://www.bmcdswimming.org/index.php?q=node/95
URL;VALUE=URI:https://www.bmcdswimming.org/index.php?q=node/95
SUMMARY:Spring Training Sessions
DESCRIPTION:<p>The annual spring clinic and conditioning sessions will officially begin on Tuesday\, April 15 and run every Tuesday\, Wednesday and Thursday for a six week period\, ending Thursday\, May 24. The first five weeks are scheduled in the Central Penn Fitness Center natatorium. The last week is scheduled to move outdoors to the Latshmere Swim Club. There will be two in-water sessions each evening.</p>
 <p>Younger swimmers (generally 10 &amp\; under) will have in-water sessions each evening from 6\:00-7\:00 p.m. These sessions will include a greater emphasis on stroke development and basic endurance.</p>
 
END:VEVENT
END:VCALENDAR
