BEGIN:VCALENDAR
VERSION:2.0
METHOD:PUBLISH
X-WR-CALNAME:Bishop McDevitt Swimming & Diving |  February 13 2014- March 15 2014
PRODID:-//strange bird labs//Drupal iCal API//EN
BEGIN:VEVENT
DTSTAMP;VALUE=DATE-TIME:20260424T161318Z
DTSTART;VALUE=DATE-TIME:20140203T230000Z
DTEND;VALUE=DATE-TIME:20140217T220000Z
UID:https://www.bmcdswimming.org/index.php?q=node/85
URL;VALUE=URI:https://www.bmcdswimming.org/index.php?q=node/85
SUMMARY:Bishop McDevitt Swimming R&K Sub Sale
DESCRIPTION:<p>Bishop McDevitt Swimming will conduct an R&amp\;K Sub Sale fundraiser during the month of February.   Subs\, pretzel sandwiches and frozen items will be offered.  Order forms are posted on the Fundraising web page  <a href=\\"http\://www.bmcdswimming.org/fundraising\\">HERE</a>.  All proceeds will benefit McD Swimming.</p>
 <p>Order forms and payment are due by the conclusion of practice on February 3.</p>
 <p>Delivery will be at 5\:00 p.m. on February 19 in the lobby of Central Penn.</p>
 <p>Any questions\, contact Katie Hudak\: 717-657-3105</p>
 
END:VEVENT
BEGIN:VEVENT
DTSTAMP;VALUE=DATE-TIME:20260424T161318Z
DTSTART;VALUE=DATE-TIME:20140215T123000Z
DTEND;VALUE=DATE-TIME:20140215T203000Z
UID:https://www.bmcdswimming.org/index.php?q=node/86
URL;VALUE=URI:https://www.bmcdswimming.org/index.php?q=node/86
SUMMARY:2014 Mid Plunge Invitation Meet
DESCRIPTION:<p><strong>2014 Mid Penn Plunge</strong><br />
 INVITATIONAL SWIMMING MEET<br />
 ~ Saturday\, February 15th\, 2014 ~<br />
 at Northern High School</p>
 <p>*  *  <a href=\\"http\://www.midpennswimchamp.info/html/mid_penn_plunge.html\\">Mid Penn Plunge Webpage</a> *  *</p>
 <p>Psych Sheets are <a href=\\"http\://www.bmcdswimming.org/sites/default/files/2014%20Mid%20Penn%20Plunge%20Psych%20Sheet.pdf\\">HERE</a> </p>
 <p><strong>The bus will DEPART FROM McDEVITT HIGH SCHOOL at 6\:30 a.m. on Saturday\, February 15.  Please do not be late.</strong></p>
 <p><strong>SCHEDULE</strong></p>
 
END:VEVENT
BEGIN:VEVENT
DTSTAMP;VALUE=DATE-TIME:20260424T161318Z
DTSTART;VALUE=DATE-TIME:20140228T170000Z
DTEND;VALUE=DATE-TIME:20140301T214500Z
UID:https://www.bmcdswimming.org/index.php?q=node/83
URL;VALUE=URI:https://www.bmcdswimming.org/index.php?q=node/83
SUMMARY:2014 District III Swimming and Diving Championships (spectator information added)
DESCRIPTION:<p><strong>District III Swimming and Diving Championships</strong><br />
 Friday February 28 - Saturday March 2<br />
 at Cumberland Valley High School</p>
 <p><a href=\\"http\://www.bmcdswimming.org/sites/default/files/District%20III%20Swimming%20Championship%20Meet%20Timeline.pdf\\">Championship Meet Timeline</a> </p>
 <p><a href=\\"http\://www.bmcdswimming.org/sites/default/files/DISTRICT-3-MT-BANK-SWIMMING-CHAMPIONSHIP-GIRLS-AA-PSYCH-SHEET.pdf\\">AA Girls Psych Sheets</a></p>
 
END:VEVENT
BEGIN:VEVENT
DTSTAMP;VALUE=DATE-TIME:20260424T161318Z
DTSTART;VALUE=DATE-TIME:20140307T160000Z
DTEND;VALUE=DATE-TIME:20140307T190000Z
UID:https://www.bmcdswimming.org/index.php?q=node/93
URL;VALUE=URI:https://www.bmcdswimming.org/index.php?q=node/93
SUMMARY:Bishop McDevitt 8th Grade Orientation Day
DESCRIPTION:<p>The annual Bishop McDevitt 8th Grade Orientation Day is Friday\, March 7.  Afternoon tours will begin at noon.  The sports portion of the tours will occur in the gym.</p>
 
END:VEVENT
BEGIN:VEVENT
DTSTAMP;VALUE=DATE-TIME:20260424T161318Z
DTSTART;VALUE=DATE-TIME:20140312T120000Z
DTEND;VALUE=DATE-TIME:20140316T020000Z
UID:https://www.bmcdswimming.org/index.php?q=node/92
URL;VALUE=URI:https://www.bmcdswimming.org/index.php?q=node/92
SUMMARY:PIAA SWIMMING AND DIVING CHAMPIONSHIPS 
DESCRIPTION:<p>The following individuals will compete at the 2014 PIAA Championship Meet on March 14-15 at Bucknell University.  </p>
 <p>Boys 200 Medley Relay - Jonathan Mata\, Alex Pompei\, Wendell Banks\, Anthony Pompei.</p>
 <p>Anthony Pompei - 100 Fly</p>
 <p>Jonathan Mata - 100 Back</p>
 <p>Jenna Clancy - 100 Back</p>
 
END:VEVENT
END:VCALENDAR
