BEGIN:VCALENDAR
VERSION:2.0
METHOD:PUBLISH
X-WR-CALNAME:Bishop McDevitt Swimming & Diving |  January 01 2014- February 01 2014
PRODID:-//strange bird labs//Drupal iCal API//EN
BEGIN:VEVENT
DTSTAMP;VALUE=DATE-TIME:20260424T193246Z
DTSTART;VALUE=DATE-TIME:20140109T200000Z
DTEND;VALUE=DATE-TIME:20140109T211000Z
UID:https://www.bmcdswimming.org/index.php?q=node/78
URL;VALUE=URI:https://www.bmcdswimming.org/index.php?q=node/78
SUMMARY:Pre Meet Dinner (before Trinity Meet)
DESCRIPTION:<p>On Thursday\, January 9\, 2014\, the swim team has a meet against Trinity and the bus will not depart from Bishop McDevitt until 4\:30pm.  The parent’s would like to offer a pasta meal to those swimmers interested in eating prior to the meet.  </p>
 <p>Please complete the bottom portion of this form in its ENTIRETY and turn into Coach Kurt by the end of practice tonight\, MONDAY\, JANUARY 6\, 2014.          </p>
 <p>SWIMMER NAME\: ________________________________ </p>
 <p>YES\, I will be participating in the pasta dinner before the meet   _____<br />
  </p>
 
END:VEVENT
BEGIN:VEVENT
DTSTAMP;VALUE=DATE-TIME:20260424T193246Z
DTSTART;VALUE=DATE-TIME:20140109T230000Z
DTEND;VALUE=DATE-TIME:20140110T013000Z
UID:https://www.bmcdswimming.org/index.php?q=node/76
URL;VALUE=URI:https://www.bmcdswimming.org/index.php?q=node/76
SUMMARY:Bishop McDevitt  vs. Trinity at Messiah College -  January 9\, 2014
DESCRIPTION:<p>Bishop McDevitt vs. Trinity (at Messiah College)</p>
 <p>The location of this meet is at the Fredricksen Natatorium (housed in the Sollenberger Sports Complex) on the Messiah College campus\, Grantham.</p>
 <p>Use this address\:<br />
 College Avenue<br />
 Grantham\, PA 17027</p>
 <p>An online map to Messiah College is <a href=\\"https\://maps.google.com/maps?hl=en&amp\;q=College+Avenue\,+Grantham\,+PA&amp\;ie=UTF-8&amp\;hq=&amp\;hnear=0x89c8e8bf29dd006b\:0x567f81360edee5c1\,College+Ave\,+Grantham\,+PA&amp\;gl=us&amp\;ei=i5TtUMC_G-rr0QG8vYCIBw&amp\;ved=0CDsQ8gEwAA\\">HERE</a> </p>
 <p>Meet is scheduled to begin at 6\:00 p.m.</p>
 
END:VEVENT
BEGIN:VEVENT
DTSTAMP;VALUE=DATE-TIME:20260424T193246Z
DTSTART;VALUE=DATE-TIME:20140114T213000Z
DTEND;VALUE=DATE-TIME:20140114T233000Z
UID:https://www.bmcdswimming.org/index.php?q=node/77
URL;VALUE=URI:https://www.bmcdswimming.org/index.php?q=node/77
SUMMARY:Bishop McDevitt at Mechanicsburg - January 14\, 2014
DESCRIPTION:<p>Location\: Mechanicsburg High School Natatorium</p>
 <p>Mechanicsburg Area Senior High School<br />
 500 South Broad Street<br />
 Mechanicsburg\, PA 17055</p>
 <p>The meet is scheduled to begin at 4\:30 p.m. with a 2\:30 p.m. bus departure from McD.</p>
 <p>Diving will not be contested at this meet.</p>
 <p>Parents may sign-up to volunteer or provide drink/snack donations <a href=\\"http\://www.timetosignup.com/mcdswimming/signupsheet/21965\\">HERE</a></p>
 
END:VEVENT
BEGIN:VEVENT
DTSTAMP;VALUE=DATE-TIME:20260424T193246Z
DTSTART;VALUE=DATE-TIME:20140116T213000Z
DTEND;VALUE=DATE-TIME:20140116T223000Z
UID:https://www.bmcdswimming.org/index.php?q=node/81
URL;VALUE=URI:https://www.bmcdswimming.org/index.php?q=node/81
SUMMARY:Bishop McDevitt Swimming Team Photo
DESCRIPTION:<p>Team and individual photos will be taken Thursday January 16 at 4\:30 p.m. at Central Penn.</p>
 
END:VEVENT
BEGIN:VEVENT
DTSTAMP;VALUE=DATE-TIME:20260424T193246Z
DTSTART;VALUE=DATE-TIME:20140123T210000Z
DTEND;VALUE=DATE-TIME:20140124T000000Z
UID:https://www.bmcdswimming.org/index.php?q=node/82
URL;VALUE=URI:https://www.bmcdswimming.org/index.php?q=node/82
SUMMARY:Bishop McDevitt v Susquehana at East Pennsboro Middle School - Thur\, January 23\, 2014 - Senior Night
DESCRIPTION:<p>Bishop McDevitt vs. Susquehanna Twp. (at East Pennsboro Middle School) - Thur\, January 23\, 2014</p>
 <p>Use this address\:<br />
 529 North Enola Drive<br />
 Enola\, PA 17025-2199</p>
 <p>An online map to EP Middle School is  <a href=\\"http\://maps.google.com/maps?hl=en&amp\;sugexp=les\;&amp\;gs_rn=1&amp\;gs_ri=hp&amp\;cp=43&amp\;gs_id=b&amp\;xhr=t&amp\;bav=on.2\,or.r_gc.r_pw.r_qf.&amp\;bvm=bv.41018144\,d.dmg&amp\;biw=1271&amp\;bih=582&amp\;q=529+North+Enola+Drive\,+Enola\,+PA+17025-2199&amp\;um=1&amp\;ie=UTF-8&amp\;hq=&amp\;hnear=0x89c8c40b52d9b7b5\:0x57c00f4b601a5179\,529+N+Enola+Dr\,+Enola\,+PA+17025&amp\;gl=us&amp\;sa=X&amp\;ei=yOX2UOPZB8eP0QGigoHgDQ&amp\;sqi=2&amp\;ved=0CC0Q8gEwAA\\">HERE</a></p>
 
END:VEVENT
BEGIN:VEVENT
DTSTAMP;VALUE=DATE-TIME:20260424T193246Z
DTSTART;VALUE=DATE-TIME:20140125T000000Z
DTEND;VALUE=DATE-TIME:20140125T020000Z
UID:https://www.bmcdswimming.org/index.php?q=node/84
URL;VALUE=URI:https://www.bmcdswimming.org/index.php?q=node/84
SUMMARY:Bishop McDevitt vs. Lower Dauphin (at Milton Hershey Middle School)  * * POSTPONED* *  to Friday\, January 24
DESCRIPTION:<p>Tuesday evening's meet vs  Lower Dauphin has been rescheduled for 7\:00 this Friday night\, January 24 at Milton Hershey Middle School.</p>
 <p>The schedule will remain the same - Bus departure from McD at 5\:30pm and 7\:00 meet start.</p>
 <p>* * * * </p>
 <p>Bishop McDevitt vs. Lower Dauphin (at Milton Hershey Catherine Hall)</p>
 <p>The location of this meet is at Milton Hershey's Catherine Hall (on the hill\, adjacent to the Hotel Hershey and across from Hershey Park and Stadium)</p>
 <p>Use this address\:<br />
 300 Hotel Road<br />
 Hershey\, PA 17033</p>
 
END:VEVENT
BEGIN:VEVENT
DTSTAMP;VALUE=DATE-TIME:20260424T193246Z
DTSTART;VALUE=DATE-TIME:20140129T210000Z
DTEND;VALUE=DATE-TIME:20140129T230000Z
UID:https://www.bmcdswimming.org/index.php?q=node/80
URL;VALUE=URI:https://www.bmcdswimming.org/index.php?q=node/80
SUMMARY:Mid Penn Event Declarations Due - January 29\, 2014 
DESCRIPTION:<p>Bishop McDevitt swimmers' event declarations for the Mid Penn Championship Meet are due Wednesday\, January 29.</p>
 <p><a href=\\"http\://www.bmcdswimming.org/sites/default/files/2013-14%20Bishop%20McDevitt%20Swimming%20Motivational%20Times%20Summary.pdf\\">Motivational Time Standards</a></p>
 <p><a href=\\"http\://www.bmcdswimming.org/sites/default/files/Mid%20Penn%20Qualifying%20Standards%202014.pdf\\">Mid Penn Championship Meet Qualifying Standards</a>.  Achieving standard does NOT guarantee entry.</p>
 
END:VEVENT
BEGIN:VEVENT
DTSTAMP;VALUE=DATE-TIME:20260424T193246Z
DTSTART;VALUE=DATE-TIME:20140129T231500Z
DTEND;VALUE=DATE-TIME:20140130T004500Z
UID:https://www.bmcdswimming.org/index.php?q=node/87
URL;VALUE=URI:https://www.bmcdswimming.org/index.php?q=node/87
SUMMARY:Pasta Dinner at Massaro Residence
DESCRIPTION:<p>All swimmers are invited to attend a pasta dinner after practice on Wednesday\, January 29 at the Massaro residence.  Please RSVP to Alyssa Massaro.</p>
 <p>Address\:<br />
 4219 Prosperous Drive\, Harrisburg</p>
 
END:VEVENT
BEGIN:VEVENT
DTSTAMP;VALUE=DATE-TIME:20260424T193246Z
DTSTART;VALUE=DATE-TIME:20140130T210000Z
DTEND;VALUE=DATE-TIME:20140130T233000Z
UID:https://www.bmcdswimming.org/index.php?q=node/75
URL;VALUE=URI:https://www.bmcdswimming.org/index.php?q=node/75
SUMMARY:Bishop McDevitt at Palmyra - **Re-scheduled** for Thur\, January 30\, 2014 
DESCRIPTION:<p>This Bishop McDevitt at Palmyra dual meet has been re-scheduled for Thursday\, January 30\, 2014.  Times remain the same as the postponed date.</p>
 <p>Location\: Palmyra High School Natatorium </p>
 <p>Palmyra Area High School<br />
 1125 Park Drive<br />
 Palmyra\, PA 17078</p>
 <p>Please be advised...<br />
 Palmyra charges regular admission for all home swim meets.<br />
   Adults\: $5.00<br />
   Students  (Gr. 1-12)\: $3.00</p>
 <p>Meet is scheduled to begin at 4\:00 p.m.</p>
 <p>Parents may sign-up to volunteer or provide drink/snack donations <a href=\\"http\://www.timetosignup.com/mcdswimming/signupsheet/21963\\">HERE</a></p>
 
END:VEVENT
END:VCALENDAR
