BEGIN:VCALENDAR
VERSION:2.0
METHOD:PUBLISH
X-WR-CALNAME:Bishop McDevitt Swimming & Diving |  December 29 2013- January 05 2014
PRODID:-//strange bird labs//Drupal iCal API//EN
BEGIN:VEVENT
DTSTAMP;VALUE=DATE-TIME:20260425T005406Z
DTSTART;VALUE=DATE-TIME:20131230T150000Z
DTEND;VALUE=DATE-TIME:20131230T210000Z
UID:https://www.bmcdswimming.org/index.php?q=node/72
URL;VALUE=URI:https://www.bmcdswimming.org/index.php?q=node/72
SUMMARY:Big Spring Bulldog Bash Invitational - December 30 - Information UPDATED
DESCRIPTION:<p><a><br />
 <a></a></a></p>
 <p>SWIMMERS\: Please complete and return an event entry request form for this meet no later than the conclusion of the Milton Hershey meet on Tuesday\, December 17. </p>
 <p>Swimmers MUST return <a href=\\"http\://www.bmcdswimming.org/sites/default/files/Bulldog%20Bash%20Meet%20Event%20Request%202013_0.pdf\\">this FORM</a> by Tuesday\, December 17.</p>
 <p><a><br />
 <a></a></a></p>
 <p>Psych sheets posted <a href=\\"http\://hs.bigspringsd.org/download.axd?file=637f3747-b62f-47f8-aa65-22ba87c9e9c4&amp\;dnldType=Resource\\">HERE</a> </p>
 <p><a><br />
 <a></a></a></p>
 <p>DATE\: Monday\, December 30\, 2013</p>
 <p>WHERE\: Big Spring High School Natatorium</p>
 
END:VEVENT
END:VCALENDAR
