BEGIN:VCALENDAR
VERSION:2.0
METHOD:PUBLISH
X-WR-CALNAME:Bishop McDevitt Swimming & Diving |  December 08 2013- January 07 2014
PRODID:-//strange bird labs//Drupal iCal API//EN
BEGIN:VEVENT
DTSTAMP;VALUE=DATE-TIME:20260425T122832Z
DTSTART;VALUE=DATE-TIME:20131202T230000Z
DTEND;VALUE=DATE-TIME:20131211T230000Z
UID:https://www.bmcdswimming.org/index.php?q=node/67
URL;VALUE=URI:https://www.bmcdswimming.org/index.php?q=node/67
SUMMARY:St. Thomas Roasters Coffee Order Due
DESCRIPTION:<p>St. Thomas Roasters coffee orders and payment should be turned in on or before the December 2nd practice.</p>
 <p>Please give the orders and payment to either Ann or Dan Delp.  The coffee will be available for pick-up and delivery on December 10th or 11th at practice.</p>
 
END:VEVENT
BEGIN:VEVENT
DTSTAMP;VALUE=DATE-TIME:20260425T122832Z
DTSTART;VALUE=DATE-TIME:20131208T171500Z
DTEND;VALUE=DATE-TIME:20131208T223000Z
UID:https://www.bmcdswimming.org/index.php?q=node/68
URL;VALUE=URI:https://www.bmcdswimming.org/index.php?q=node/68
SUMMARY:Jeremy Naylor Invite\: A  non-high school sanctioned event on December 8\, 2013
DESCRIPTION:<p>Bishop McDevitt swimmers that are new to the team or have limited experience with winter swimming are encouraged to participate in the Jeremy Naylor Invite on Sunday\, December 8 at the Northern York High School.  </p>
 <p>An information packet is posted at the bottom of this page.  Please speak with a coach if you wish to enter.  Additional announcements will be made about this invitational in the coming weeks.</p>
 
END:VEVENT
BEGIN:VEVENT
DTSTAMP;VALUE=DATE-TIME:20260425T122832Z
DTSTART;VALUE=DATE-TIME:20131211T210000Z
DTEND;VALUE=DATE-TIME:20131211T233000Z
UID:https://www.bmcdswimming.org/index.php?q=node/69
URL;VALUE=URI:https://www.bmcdswimming.org/index.php?q=node/69
SUMMARY:Bishop McDevitt v Cedar Cliff (at Red Land HS)
DESCRIPTION:<p>The location of this meet is the <a href=\\"http\://www.wssd.k12.pa.us/natatorium.cfm\\"> West Shore Natatorium</a> at Red Land High School.</p>
 <p>Red Land High School<br />
 560 Fishing Creek Road<br />
 Lewisberry\, PA 17070-0803</p>
 <p>The natatorium is located off of Exit 36 on I83. I83 south from Camp Hill or Harrisburg you turn right onto Fishing Creek Road.</p>
 <p>Meet is scheduled to begin at 4\:00 p.m.</p>
 <p>Parents may sign-up to volunteer or provide drink/snack donations <a href=\\"http\://www.timetosignup.com/mcdswimming/\\">HERE</a></p>
 
END:VEVENT
BEGIN:VEVENT
DTSTAMP;VALUE=DATE-TIME:20260425T122832Z
DTSTART;VALUE=DATE-TIME:20131217T210000Z
DTEND;VALUE=DATE-TIME:20131217T233000Z
UID:https://www.bmcdswimming.org/index.php?q=node/70
URL;VALUE=URI:https://www.bmcdswimming.org/index.php?q=node/70
SUMMARY:Bishop McDevitt at Milton Hershey - December 17
DESCRIPTION:<p>The location of this meet is the Spartan Center on the Milton Hershey School campus.  A link to directions provided on the Milton Hershey web site is <a href=\\"http\://www.mhs-pa.org/about/map-directions\\">HERE</a></p>
 <p>Meet is scheduled to begin at 4\:00 p.m.</p>
 <p>Parents may sign-up to volunteer or provide drink/snack donations <a href=\\"http\://www.timetosignup.com/mcdswimming/\\">HERE</a></p>
 <p>The homepage for the Milton Hershey School is\: <a href=\\"http\://www.mhs-pa.org\\" title=\\"http\://www.mhs-pa.org\\">http\://www.mhs-pa.org</a></p>
 
END:VEVENT
BEGIN:VEVENT
DTSTAMP;VALUE=DATE-TIME:20260425T122832Z
DTSTART;VALUE=DATE-TIME:20131220T210000Z
DTEND;VALUE=DATE-TIME:20131220T233000Z
UID:https://www.bmcdswimming.org/index.php?q=node/71
URL;VALUE=URI:https://www.bmcdswimming.org/index.php?q=node/71
SUMMARY:Bishop McDevitt at Red Land - December 20
DESCRIPTION:<p>Location\: Red Land High School Natatorium (the same site as the meet with Cedar Cliff on December 11).</p>
 <p>Red Land High School<br />
 560 Fishing Creek Road<br />
 Lewisberry\, PA 17339-9510</p>
 <p>The natatorium is located off of Exit 36 on I83. I83 south from Camp Hill or Harrisburg you turn right onto Fishing Creek Road.</p>
 <p>Meet is scheduled to begin at 4\:00 p.m.</p>
 <p>Parents may sign-up to volunteer or provide drink/snack donations <a href=\\"http\://www.timetosignup.com/mcdswimming/signupsheet/21962\\">HERE</a></p>
 
END:VEVENT
BEGIN:VEVENT
DTSTAMP;VALUE=DATE-TIME:20260425T122832Z
DTSTART;VALUE=DATE-TIME:20131224T050000Z
DTEND;VALUE=DATE-TIME:20131225T045900Z
UID:https://www.bmcdswimming.org/index.php?q=node/73
URL;VALUE=URI:https://www.bmcdswimming.org/index.php?q=node/73
SUMMARY:No Practice Tuesday\, December 24
DESCRIPTION:<p>CPHFC Closed.  Enjoy time with family and friends.  Be safe.</p>
 
END:VEVENT
BEGIN:VEVENT
DTSTAMP;VALUE=DATE-TIME:20260425T122832Z
DTSTART;VALUE=DATE-TIME:20131225T050000Z
DTEND;VALUE=DATE-TIME:20131226T045900Z
UID:https://www.bmcdswimming.org/index.php?q=node/74
URL;VALUE=URI:https://www.bmcdswimming.org/index.php?q=node/74
SUMMARY:No Practice Wednesday December 25
DESCRIPTION:<p>Merry Christmas!</p>
 
END:VEVENT
BEGIN:VEVENT
DTSTAMP;VALUE=DATE-TIME:20260425T122832Z
DTSTART;VALUE=DATE-TIME:20131230T150000Z
DTEND;VALUE=DATE-TIME:20131230T210000Z
UID:https://www.bmcdswimming.org/index.php?q=node/72
URL;VALUE=URI:https://www.bmcdswimming.org/index.php?q=node/72
SUMMARY:Big Spring Bulldog Bash Invitational - December 30 - Information UPDATED
DESCRIPTION:<p><a><br />
 <a></a></a></p>
 <p>SWIMMERS\: Please complete and return an event entry request form for this meet no later than the conclusion of the Milton Hershey meet on Tuesday\, December 17. </p>
 <p>Swimmers MUST return <a href=\\"http\://www.bmcdswimming.org/sites/default/files/Bulldog%20Bash%20Meet%20Event%20Request%202013_0.pdf\\">this FORM</a> by Tuesday\, December 17.</p>
 <p><a><br />
 <a></a></a></p>
 <p>Psych sheets posted <a href=\\"http\://hs.bigspringsd.org/download.axd?file=637f3747-b62f-47f8-aa65-22ba87c9e9c4&amp\;dnldType=Resource\\">HERE</a> </p>
 <p><a><br />
 <a></a></a></p>
 <p>DATE\: Monday\, December 30\, 2013</p>
 <p>WHERE\: Big Spring High School Natatorium</p>
 
END:VEVENT
END:VCALENDAR
