BEGIN:VCALENDAR
VERSION:2.0
METHOD:PUBLISH
X-WR-CALNAME:Bishop McDevitt Swimming & Diving |  November 07 2013- December 07 2013
PRODID:-//strange bird labs//Drupal iCal API//EN
BEGIN:VEVENT
DTSTAMP;VALUE=DATE-TIME:20260425T162648Z
DTSTART;VALUE=DATE-TIME:20131111T210000Z
DTEND;VALUE=DATE-TIME:20131111T230000Z
UID:https://www.bmcdswimming.org/index.php?q=node/60
URL;VALUE=URI:https://www.bmcdswimming.org/index.php?q=node/60
SUMMARY:First Unoffical Day of Practice
DESCRIPTION:<p>The first unofficial day of practice is scheduled for Monday November 11.  More detailed information will be provided in the coming weeks.</p>
 <p>**VERY IMPORTANT**  Swimmers\, parents\, and any guests will not be permitted access to Central Penn until a waiver release form is completed and returned to the Central Penn front desk.  If you have not already completed a waiver form\, please complete one now or plan to complete one at the club.</p>
 
END:VEVENT
BEGIN:VEVENT
DTSTAMP;VALUE=DATE-TIME:20260425T162648Z
DTSTART;VALUE=DATE-TIME:20131202T230000Z
DTEND;VALUE=DATE-TIME:20131211T230000Z
UID:https://www.bmcdswimming.org/index.php?q=node/67
URL;VALUE=URI:https://www.bmcdswimming.org/index.php?q=node/67
SUMMARY:St. Thomas Roasters Coffee Order Due
DESCRIPTION:<p>St. Thomas Roasters coffee orders and payment should be turned in on or before the December 2nd practice.</p>
 <p>Please give the orders and payment to either Ann or Dan Delp.  The coffee will be available for pick-up and delivery on December 10th or 11th at practice.</p>
 
END:VEVENT
END:VCALENDAR
