BEGIN:VCALENDAR
VERSION:2.0
METHOD:PUBLISH
X-WR-CALNAME:Bishop McDevitt Swimming & Diving |  October 01 2013- October 31 2013
PRODID:-//strange bird labs//Drupal iCal API//EN
BEGIN:VEVENT
DTSTAMP;VALUE=DATE-TIME:20260426T002943Z
DTSTART;VALUE=DATE-TIME:20131008T230000Z
DTEND;VALUE=DATE-TIME:20131009T000000Z
UID:https://www.bmcdswimming.org/index.php?q=node/59
URL;VALUE=URI:https://www.bmcdswimming.org/index.php?q=node/59
SUMMARY:Pancake Breakfast Planning Meeting  -Tuesday\, October 8 at 6\:00 p.m.
DESCRIPTION:<p>A second pancake breakfast planning meeting has been scheduled for Tuesday\, October 8 at 6\:00 p.m. in the school cafeteria. </p>
 <p>All McDevitt swimmers and parents are invited to attend.</p>
 
END:VEVENT
BEGIN:VEVENT
DTSTAMP;VALUE=DATE-TIME:20260426T002943Z
DTSTART;VALUE=DATE-TIME:20131012T113000Z
DTEND;VALUE=DATE-TIME:20131012T143000Z
UID:https://www.bmcdswimming.org/index.php?q=node/58
URL;VALUE=URI:https://www.bmcdswimming.org/index.php?q=node/58
SUMMARY:McDevitt Swim Team First Annual Pancake Breakfast
DESCRIPTION:<p><strong>McDevitt Swim Team Pancake Breakfast</strong><br />
 Homecoming Saturday<br />
 October 12\, 2013<br />
 6\:30-9\:30 a.m. School Cafeteria<br />
 $6.00 Adult   $3.00 (ages 3-12) under 3 eat free</p>
 <p><strong>Contact\:  Cheri Weber at 558-9691 OR <a href=\\"mailto\:dwcw99@verizon.net\\">dwcw99@verizon.net</a> to purchase tickets.</strong></p>
 
END:VEVENT
BEGIN:VEVENT
DTSTAMP;VALUE=DATE-TIME:20260426T002943Z
DTSTART;VALUE=DATE-TIME:20131023T125500Z
DTEND;VALUE=DATE-TIME:20131023T130500Z
UID:https://www.bmcdswimming.org/index.php?q=node/62
URL;VALUE=URI:https://www.bmcdswimming.org/index.php?q=node/62
SUMMARY:Pre-Season Meeting for All Interested Swimmers
DESCRIPTION:<p>A brief meeting will be held on Wednesday\, October 23 after AM announcements from 7\:55-8\:05am in the high school cafeteria.  All students interested in participating on the Bishop McDevitt Swim Team for the 2013-14 winter season should attend this meeting.  In school announcements about this meeting will be made beginning on Monday\, October 21.</p>
 <p>Students should make sure the following forms are completed and returned during this meeting\:</p>
 
END:VEVENT
BEGIN:VEVENT
DTSTAMP;VALUE=DATE-TIME:20260426T002943Z
DTSTART;VALUE=DATE-TIME:20131024T230000Z
DTEND;VALUE=DATE-TIME:20131025T000000Z
UID:https://www.bmcdswimming.org/index.php?q=node/65
URL;VALUE=URI:https://www.bmcdswimming.org/index.php?q=node/65
SUMMARY:Bishop McDevitt Swimming Parents Meeting
DESCRIPTION:<p>McD Swimming Parents Meeting\: Pancake Breakfast Wrap-up &amp\; Planning for the Competitive Season</p>
 
END:VEVENT
END:VCALENDAR
