BEGIN:VCALENDAR
VERSION:2.0
METHOD:PUBLISH
X-WR-CALNAME:Bishop McDevitt Swimming & Diving |  August 21 2013- September 20 2013
PRODID:-//strange bird labs//Drupal iCal API//EN
BEGIN:VEVENT
DTSTAMP;VALUE=DATE-TIME:20260426T002933Z
DTSTART;VALUE=DATE-TIME:20130914T173000Z
DTEND;VALUE=DATE-TIME:20130914T183000Z
UID:https://www.bmcdswimming.org/index.php?q=node/57
URL;VALUE=URI:https://www.bmcdswimming.org/index.php?q=node/57
SUMMARY:Open House at Central Penn Fitness Center
DESCRIPTION:<p>New and returning Bishop McDevitt swimmers and their families are invited to an open house on Saturday\, September 14 from 12\:30-1\:30 p.m. at the Central Penn Fitness Center.</p>
 <p>The Central Penn Health Club requires all athletes AND parents that pass beyond the front desk area complete a liability waiver.  These forms are available at Central Penn and can be downloaded from the \\"Forms\\" web page <a href=\\"http\://www.bmcdswimming.org/forms\\">HERE </a>.  Please be sure to complete these forms this Saturday or prior to the first day of McDevitt practice on Monday\, November 11.</p>
 
END:VEVENT
END:VCALENDAR
