BEGIN:VCALENDAR
VERSION:2.0
METHOD:PUBLISH
X-WR-CALNAME:Bishop McDevitt Swimming & Diving |  August 04 2013- August 11 2013
PRODID:-//strange bird labs//Drupal iCal API//EN
BEGIN:VEVENT
DTSTAMP;VALUE=DATE-TIME:20260425T150444Z
DTSTART;VALUE=DATE-TIME:20130805T170000Z
DTEND;VALUE=DATE-TIME:20130817T010000Z
UID:https://www.bmcdswimming.org/index.php?q=node/53
URL;VALUE=URI:https://www.bmcdswimming.org/index.php?q=node/53
SUMMARY:Pre-Season Team Meeting
DESCRIPTION:<p>A pre-season team meeting will be held Tuesday\, August 20 at 6\:30 p.m. in the high school cafeteria.  Parents are encouraged to attend this non-mandatory information meeting.  Swimmers are also welcome to attend.  </p>
 <p>McDevitt Swimming families should provide an email address to coach Kurt in order to receive team news and updates.  </p>
 <p>Email\: <a href=\\"mailto\:swimbmcd@yahoo.com\\">swimbmcd@yahoo.com</a>  </p>
 <p>Topics for the pre-season meeting include\:<br />
 Brief discussion of training philosophy<br />
 Brief overview of practice and competition schedule<br />
 Confirming a tentative roster and important contact information<br />
 Discussion of fundraisers</p>
 
END:VEVENT
END:VCALENDAR
