BEGIN:VCALENDAR
VERSION:2.0
METHOD:PUBLISH
X-WR-CALNAME:Bishop McDevitt Swimming & Diving |  March 01 2013- April 01 2013
PRODID:-//strange bird labs//Drupal iCal API//EN
BEGIN:VEVENT
DTSTAMP;VALUE=DATE-TIME:20260426T023736Z
DTSTART;VALUE=DATE-TIME:20130301T150000Z
DTEND;VALUE=DATE-TIME:20130302T230000Z
UID:https://www.bmcdswimming.org/index.php?q=node/51
URL;VALUE=URI:https://www.bmcdswimming.org/index.php?q=node/51
SUMMARY:2013 District III Championship Meet
DESCRIPTION:<p>Meet Location\: Cumberland Valley High School<br />
 Meet Dates\: March 1-2\, 2013</p>
 <p><a href=\\"http\://www.bmcdswimming.org/sites/default/files/DISTRICT%20III%20SWIMMING%20SPECTATOR%20INFORMATION13.pdf\\">***VERY IMPORTANT ADMISSION GUIDELINES ALL PARENTS AND SPECTATORS PLEASE READ*** </a></p>
 <p>Girls' AA Psych Sheets are <a href=\\"http\://piaadistrict3.org/wp-content/uploads/2011/01/2013-SWIM-G-AA-PSYCH.pdf\\">HERE </a></p>
 <p>Girls' AA relay entries are <a href=\\"http\://piaadistrict3.org/wp-content/uploads/2011/01/2013-SWIM-G-AA-RELAY.pdf\\">HERE </a></p>
 <p><a><br />
 <a></a></a></p>
 
END:VEVENT
BEGIN:VEVENT
DTSTAMP;VALUE=DATE-TIME:20260426T023736Z
DTSTART;VALUE=DATE-TIME:20130305T230000Z
DTEND;VALUE=DATE-TIME:20130306T011500Z
UID:https://www.bmcdswimming.org/index.php?q=node/49
URL;VALUE=URI:https://www.bmcdswimming.org/index.php?q=node/49
SUMMARY:2012-13 Season Swim Team Banquet
DESCRIPTION:<p>This year's swim team banquet will be Tuesday\, March 5th starting at 6 o'clock at the Colonial Golf &amp\; Tennis Club.  Further details are provided in the dinner announcement below.</p>
 
END:VEVENT
END:VCALENDAR
