BEGIN:VCALENDAR
VERSION:2.0
METHOD:PUBLISH
X-WR-CALNAME:Bishop McDevitt Swimming & Diving |  February 01 2013- March 01 2013
PRODID:-//strange bird labs//Drupal iCal API//EN
BEGIN:VEVENT
DTSTAMP;VALUE=DATE-TIME:20260426T035221Z
DTSTART;VALUE=DATE-TIME:20130209T130000Z
DTEND;VALUE=DATE-TIME:20130209T200000Z
UID:https://www.bmcdswimming.org/index.php?q=node/47
URL;VALUE=URI:https://www.bmcdswimming.org/index.php?q=node/47
SUMMARY:2013 Mid Penn Swimming Championships
DESCRIPTION:<p>Just like last year\, the AA and AAA championships have been combined and will be held in one day on Saturday\, February 9\, 2013 at Cumberland Valley High School.</p>
 <p>    8\:00 AM Warm Ups begin<br />
     10\:00 AM Meet Starting Time</p>
 <p>    The Order of Events is as follows\:<br />
         200 Medley Relay<br />
         200 Freestyle<br />
         200 Individual Medley<br />
         50 Freestyle<br />
         100 Butterfly<br />
         200 Freestyle Relay<br />
         100 Freestyle<br />
         500 Freestyle<br />
         100 Backstroke<br />
         100 Breaststroke<br />
         400 Freestyle Relay</p>
 <p>ADMISSIONS</p>
 
END:VEVENT
BEGIN:VEVENT
DTSTAMP;VALUE=DATE-TIME:20260426T035221Z
DTSTART;VALUE=DATE-TIME:20130216T130000Z
DTEND;VALUE=DATE-TIME:20130216T210000Z
UID:https://www.bmcdswimming.org/index.php?q=node/48
URL;VALUE=URI:https://www.bmcdswimming.org/index.php?q=node/48
SUMMARY:2013 Mid Penn Plunge
DESCRIPTION:<p>2013 Mid Penn Plunge<br />
 at Northern High School<br />
 INVITATIONAL SWIMMING MEET</p>
 <p>~ Saturday\, February 16th\, 2013 ~</p>
 <p>Again this year AAA\, AA\, swim school and non-swim school swimmers will be combined and will compete together at the Plunge.</p>
 <p>TIMES\:<br />
 7\:30-9\:30 AM\, Warm-ups\, including sprints (time/lane assignments will be established after entries are submitted\, based on entry count.) There will also be additional warmup/cooldown periods during the meet.</p>
 <p>9\:15 AM\, Mandatory final scratches-only meeting for coaches and officials.</p>
 <p>9\:45 AM\, Meet begins.</p>
 <p>FACILITY\:</p>
 
END:VEVENT
END:VCALENDAR
